BEGIN:VCALENDAR
VERSION:2.0
PRODID:-//ChamberMaster//Event Calendar 2.0//EN
METHOD:PUBLISH
X-PUBLISHED-TTL:P3D
REFRESH-INTERVAL:P3D
CALSCALE:GREGORIAN
BEGIN:VEVENT
DTSTART:20240207T000000Z
DTEND:20240207T010000Z
X-MICROSOFT-CDO-ALLDAYEVENT:FALSE
SUMMARY:Y Leaders Club
DESCRIPTION:A program encouraging lifelong volunteer work\, personal growth\, enhancing leadership skills\, and forming positive relationships. Work with Virginia Tech student volunteers to strengthen the pillars of academics\, positive relationships\, life skills\, and positive self identity. Learn the YMCA core values of Respect\, Honesty\, Responsibility\, and Caring.
X-ALT-DESC;FMTTYPE=text/html:<span style="color:rgb(0\, 137\, 208)">A program encouraging lifelong volunteer work\, personal growth\, enhancing leadership skills\, and forming positive relationships. Work with Virginia Tech student volunteers to strengthen the pillars of academics\, positive relationships\, life skills\, and positive self identity. Learn the YMCA core values of Respect\, Honesty\, Responsibility\, and Caring.</span>
LOCATION:Y Center 1000 N Main St Blacksburg\, VA 24060
UID:e.278.12390
SEQUENCE:3
DTSTAMP:20260425T160910Z
URL:https://business.montgomerycc.org/events/details/y-leaders-club-02-06-2024-12390
END:VEVENT

END:VCALENDAR
