BEGIN:VCALENDAR
VERSION:2.0
PRODID:-//ChamberMaster//Event Calendar 2.0//EN
METHOD:PUBLISH
X-PUBLISHED-TTL:P3D
REFRESH-INTERVAL:P3D
CALSCALE:GREGORIAN
BEGIN:VEVENT
DTSTART:20251206T160000Z
DTEND:20251206T193000Z
X-MICROSOFT-CDO-ALLDAYEVENT:FALSE
SUMMARY:Y Holiday Tea
DESCRIPTION:You are invited to join the YMCA at Virginia Tech at our annual Holiday Tea.\n\n \n\nLocated in the beautiful\, historic Lancaster House at 403 Washington St SW\, Blacksburg\, this sumptuous holiday event takes place on Saturday December 6\, 2025\, and is a perfect gift to your friends\, your family\, yourself!\n\n \n\nThe Holiday Tea will have limited seating spread over 2 sittings so don't delay\, get your tickets today!\n\nThe first sitting will be at 11:00am   12:30pm\n\nThe second sitting will be at 1:00pm   2:30pm\n\n\n \n\nThis is a splendid opportunity to enjoy the holiday spirit with family and friends by enjoying a deliciously decadent celebration.\n\n \n\n\n \n\nProceeds from the Tea will directly benefit our Y Community Programs such as Meals On Main\, Mobile Market\, International Programming and After School programs.\n\n \n\nDeadline to purchase tickets is November 30
X-ALT-DESC;FMTTYPE=text/html:<div style="text-align:center"><span style="color:rgb(0\, 128\, 0)\; font-size:20pt">You are invited to join the YMCA at Virginia Tech at our annual Holiday Tea.</span></div>\n\n<div>&nbsp\;</div>\n\n<div style="text-align:center">Located in the beautiful\, historic Lancaster House at 403 Washington St SW\, Blacksburg\, this sumptuous holiday event takes place on Saturday December 6\, 2025\, and is a perfect gift to your friends\, your family\, yourself!</div>\n\n<div style="text-align:center">&nbsp\;</div>\n\n<div style="text-align:center">The Holiday Tea will have limited seating spread over 2 sittings so don&rsquo\;t delay\, get your tickets today!</div>\n\n<div style="text-align:center">The first sitting will be at 11:00am &ndash\; 12:30pm</div>\n\n<div style="text-align:center">The second sitting will be at 1:00pm &ndash\; 2:30pm</div>\n\n<div>\n<div>&nbsp\;</div>\n\n<div style="text-align:center">This is a splendid opportunity to enjoy the holiday spirit with family and friends by enjoying a deliciously decadent celebration.</div>\n\n<div style="text-align:center">&nbsp\;</div>\n</div>\n\n<div>&nbsp\;</div>\n\n<div style="text-align:center">Proceeds from the Tea will directly benefit our Y Community Programs such as Meals On Main\, Mobile Market\, International Programming and After School programs.</div>\n\n<div style="text-align:center">&nbsp\;</div>\n\n<div style="text-align:center">Deadline to purchase tickets is November 30</div>\n
LOCATION:The Lancaster House 403 Washington St SW Blacksburg\, VA 24060
UID:e.278.15233
SEQUENCE:3
DTSTAMP:20260425T144422Z
URL:https://business.montgomerycc.org/events/details/y-holiday-tea-15233
END:VEVENT

END:VCALENDAR
