BEGIN:VCALENDAR
VERSION:2.0
PRODID:-//ChamberMaster//Event Calendar 2.0//EN
METHOD:PUBLISH
X-PUBLISHED-TTL:P3D
REFRESH-INTERVAL:P3D
CALSCALE:GREGORIAN
BEGIN:VEVENT
DTSTART:20260502T130000Z
DTEND:20260502T180000Z
X-MICROSOFT-CDO-ALLDAYEVENT:FALSE
SUMMARY:Vintage Outdoor Market
DESCRIPTION:Virginia Vintage is hosting our Spring Outdoor Market on Saturday\, May 2 from 9am until 2pm! Over 25 vintage vendors will be set up outside\, in addition to the 40 vendors who have curated spaces inside of the store. Join us and shop local for antiques\, vintage treasures and one-of-a-kind finds!
X-ALT-DESC;FMTTYPE=text/html:Virginia Vintage is hosting our Spring Outdoor Market on Saturday\, May 2 from 9am until 2pm! Over 25 vintage vendors will be set up outside\, in addition to the 40 vendors who have curated spaces inside of the store. Join us and shop local for antiques\, vintage treasures and one-of-a-kind finds!
LOCATION:Virginia Vintage\, 3980 Mud Pike\, Christiansburg\, VA 24073
UID:e.278.15362
SEQUENCE:3
DTSTAMP:20260422T174030Z
URL:https://business.montgomerycc.org/events/details/vintage-outdoor-market-15362
END:VEVENT

END:VCALENDAR
