BEGIN:VCALENDAR
VERSION:2.0
PRODID:-//ChamberMaster//Event Calendar 2.0//EN
METHOD:PUBLISH
X-PUBLISHED-TTL:P3D
REFRESH-INTERVAL:P3D
CALSCALE:GREGORIAN
BEGIN:VEVENT
DTSTART:20250515T233000Z
DTEND:20250516T010000Z
X-MICROSOFT-CDO-ALLDAYEVENT:FALSE
SUMMARY:Tequila De Mayo - Mixology Tasting
DESCRIPTION:Join us for a festive evening of tequila cocktail tastings\, fun stories\, and a live mixology show! Sip three handcrafted drinks\, snack\, and celebrate with us! **Tickets can be purchased in advance or at the time of event.
X-ALT-DESC;FMTTYPE=text/html:Join us for a festive evening of tequila cocktail tastings\, fun stories\, and a live mixology show! Sip three handcrafted drinks\, snack\, and celebrate with us! **Tickets can be purchased in advance or at the time of event.
LOCATION:McClain's at First and Main 1614 S. Main St.\, Blacksburg
UID:e.278.14925
SEQUENCE:3
DTSTAMP:20260426T023917Z
URL:https://business.montgomerycc.org/events/details/tequila-de-mayo-mixology-tasting-14925
END:VEVENT

END:VCALENDAR
