BEGIN:VCALENDAR
VERSION:2.0
PRODID:-//ChamberMaster//Event Calendar 2.0//EN
METHOD:PUBLISH
X-PUBLISHED-TTL:P3D
REFRESH-INTERVAL:P3D
CALSCALE:GREGORIAN
BEGIN:VEVENT
DTSTART:20250527T180000Z
DTEND:20250527T190000Z
X-MICROSOFT-CDO-ALLDAYEVENT:FALSE
SUMMARY:Talent & Education Committee Meeting
DESCRIPTION:Available in Person or by Zoom
X-ALT-DESC;FMTTYPE=text/html:Available in Person or by Zoom
LOCATION:
UID:e.278.14825
SEQUENCE:3
DTSTAMP:20260426T024341Z
URL:https://business.montgomerycc.org/events/details/talent-education-committee-meeting-05-27-2025-14825
END:VEVENT

END:VCALENDAR
