BEGIN:VCALENDAR
VERSION:2.0
PRODID:-//ChamberMaster//Event Calendar 2.0//EN
METHOD:PUBLISH
X-PUBLISHED-TTL:P3D
REFRESH-INTERVAL:P3D
CALSCALE:GREGORIAN
BEGIN:VEVENT
DTSTART;VALUE=DATE:20250517
DTEND;VALUE=DATE:20250518
TRANSP:TRANSPARENT
X-MICROSOFT-CDO-ALLDAYEVENT:TRUE
SUMMARY:Spring Dance Recitals
DESCRIPTION:Come support our dancers as they show off all of their hard work!! All friends\, family\, and guests are welcome! ?? ?? Our shows feature dancers performing ballet\, tap\, jazz\, hip hop\, lyrical\, acro\, contemporary\, musical theatre and more! 12:00 pm Matinee - Debut\, Spotlight\, Level 4/5/6\, PAC 3:00 pm Afternoon - Level 1\, Level 8\, PAC 6:00 pm Evening - Level 2/3\, Level 7\, Adults\, PAC Show runtime is approximately 75 minutes. Tickets: $15 All-day Pass: $30 3 & Under: Free!
X-ALT-DESC;FMTTYPE=text/html:Come support our dancers as they show off all of their hard work!! All friends\, family\, and guests are welcome! ?? ?? Our shows feature dancers performing ballet\, tap\, jazz\, hip hop\, lyrical\, acro\, contemporary\, musical theatre and more! 12:00 pm Matinee - Debut\, Spotlight\, Level 4/5/6\, PAC 3:00 pm Afternoon - Level 1\, Level 8\, PAC 6:00 pm Evening - Level 2/3\, Level 7\, Adults\, PAC Show runtime is approximately 75 minutes. Tickets: $15 All-day Pass: $30 3 &amp\; Under: Free!
LOCATION:Blacksburg High School
UID:e.278.14961
SEQUENCE:3
DTSTAMP:20260426T023848Z
URL:https://business.montgomerycc.org/events/details/spring-dance-recitals-14961
END:VEVENT

END:VCALENDAR
