BEGIN:VCALENDAR
VERSION:2.0
PRODID:-//ChamberMaster//Event Calendar 2.0//EN
METHOD:PUBLISH
X-PUBLISHED-TTL:P3D
REFRESH-INTERVAL:P3D
CALSCALE:GREGORIAN
BEGIN:VEVENT
DTSTART:20250507T200000Z
DTEND:20250507T210000Z
X-MICROSOFT-CDO-ALLDAYEVENT:FALSE
SUMMARY:Ribbon Cutting: Social Theory Media
DESCRIPTION:Join us as we celebrate our new member\, Social Theory Media\, with a ribbon cutting. This event will take place at The Chamber Office at 210 Laurel Street\, Suite B\, in Christiansburg.\n \n\nPlease arrive prior to 4:00 PM. The ribbon will be cut promptly at 4:10 PM. All members are encouraged to sign the ribbon as a keepsake for Social Theory Media.\n\n\n\nDone-for-you social media content production and management. We film the people behind the brand. We share their story. We make producing social media content effortless by taking care of all steps\, leaving your only job (or employees) to be in the videos.
X-ALT-DESC;FMTTYPE=text/html:<p dir="ltr" style="line-height:1.38\;margin-top:0pt\;margin-bottom:0pt\;"><span id="docs-internal-guid-b1e7623e-7fff-4ddb-963f-16b002afe9fc"><span style="font-size: 13.5pt\; font-family: Montserrat\, sans-serif\; color: rgb(0\, 0\, 0)\; background-color: transparent\; font-variant-numeric: normal\; font-variant-east-asian: normal\; font-variant-alternates: normal\; font-variant-position: normal\; vertical-align: baseline\; white-space-collapse: preserve\;">Join us as we celebrate our new member\, Social Theory Media\, with a ribbon cutting. </span></span><span id="docs-internal-guid-b1e7623e-7fff-4ddb-963f-16b002afe9fc"><span style="font-size: 13.5pt\; font-family: Montserrat\, sans-serif\; color: rgb(0\, 0\, 0)\; background-color: transparent\; font-variant-numeric: normal\; font-variant-east-asian: normal\; font-variant-alternates: normal\; font-variant-position: normal\; vertical-align: baseline\; white-space-collapse: preserve\;">This event will take place at The Chamber Office at 210 Laurel Street\, Suite B\, in Christiansburg.</span></span></p>\n&nbsp\;\n\n<p dir="ltr" style="line-height:1.38\;margin-top:0pt\;margin-bottom:0pt\;"><span id="docs-internal-guid-b1e7623e-7fff-4ddb-963f-16b002afe9fc"><span style="font-size: 13.5pt\; font-family: Montserrat\, sans-serif\; color: rgb(0\, 0\, 0)\; background-color: transparent\; font-variant-numeric: normal\; font-variant-east-asian: normal\; font-variant-alternates: normal\; font-variant-position: normal\; vertical-align: baseline\; white-space-collapse: preserve\;">Please arrive prior to 4:00 PM. The ribbon will be cut promptly at 4:10 PM. All members are encouraged to sign the ribbon as a keepsake for Social Theory Media.</span></span><br />\n<br />\n<span style="font-family:aptos\,sans-serif\;"><span style="font-size:12.0pt\;">Done-for-you social media content production and management. We film the people behind the brand. We share their story. We make producing social media content effortless by taking care of all steps\, leaving your only job (or employees) to be in the videos.</span></span></p>\n
LOCATION:210 Laurel Street\, Suite B\, Christiansburg\, VA
UID:e.278.14948
SEQUENCE:3
DTSTAMP:20260426T035943Z
URL:https://business.montgomerycc.org/events/details/ribbon-cutting-social-theory-media-14948
END:VEVENT

END:VCALENDAR
