BEGIN:VCALENDAR
VERSION:2.0
PRODID:-//ChamberMaster//Event Calendar 2.0//EN
METHOD:PUBLISH
X-PUBLISHED-TTL:P3D
REFRESH-INTERVAL:P3D
CALSCALE:GREGORIAN
BEGIN:VEVENT
DTSTART:20250513T160000Z
DTEND:20250513T170000Z
X-MICROSOFT-CDO-ALLDAYEVENT:FALSE
SUMMARY:Ribbon Cutting: Imagination Library of Montgomery County\, VA
DESCRIPTION:Join us as we celebrate our member\, Dolly Parton's Imagination Library\, with a ribbon cutting. This event will take place at The Chamber Office\, 210 Laurel Street Suite B\, Christiansburg\, VA\, on Tuesday\, May 13th at 12 PM.\n \n\nPlease arrive prior to noon and the ribbon will be cut promptly at 12:10 PM. All members are encouraged to sign the ribbon as a keepsake for Imagination Library.
X-ALT-DESC;FMTTYPE=text/html:<p dir="ltr" style="line-height:1.38\;margin-top:0pt\;margin-bottom:0pt\;"><span id="docs-internal-guid-b1e7623e-7fff-4ddb-963f-16b002afe9fc"><span style="font-size: 13.5pt\; font-family: Montserrat\, sans-serif\; color: rgb(0\, 0\, 0)\; background-color: transparent\; font-variant-numeric: normal\; font-variant-east-asian: normal\; font-variant-alternates: normal\; font-variant-position: normal\; vertical-align: baseline\; white-space-collapse: preserve\;">Join us as we celebrate our member\, Dolly Parton&#39\;s Imagination Library\, with a ribbon cutting. </span></span><span id="docs-internal-guid-b1e7623e-7fff-4ddb-963f-16b002afe9fc"><span style="font-size: 13.5pt\; font-family: Montserrat\, sans-serif\; color: rgb(0\, 0\, 0)\; background-color: transparent\; font-variant-numeric: normal\; font-variant-east-asian: normal\; font-variant-alternates: normal\; font-variant-position: normal\; vertical-align: baseline\; white-space-collapse: preserve\;">This event will take place at The Chamber Office\, 210 Laurel Street Suite B\, Christiansburg\, VA\, on Tuesday\, May 13th at 12 PM.</span></span></p>\n&nbsp\;\n\n<p dir="ltr" style="line-height:1.38\;margin-top:0pt\;margin-bottom:0pt\;"><span id="docs-internal-guid-b1e7623e-7fff-4ddb-963f-16b002afe9fc"><span style="font-size: 13.5pt\; font-family: Montserrat\, sans-serif\; color: rgb(0\, 0\, 0)\; background-color: transparent\; font-variant-numeric: normal\; font-variant-east-asian: normal\; font-variant-alternates: normal\; font-variant-position: normal\; vertical-align: baseline\; white-space-collapse: preserve\;">Please arrive prior to noon and the ribbon will be cut promptly at 12:10 PM. All members are encouraged to sign the ribbon as a keepsake for Imagination Library.</span></span></p>\n
LOCATION:210 Laurel Street (Chamber office) Christiansburg\, VA 24073
UID:e.278.14914
SEQUENCE:3
DTSTAMP:20260426T024239Z
URL:https://business.montgomerycc.org/events/details/ribbon-cutting-imagination-library-of-montgomery-county-va-14914
END:VEVENT

END:VCALENDAR
