BEGIN:VCALENDAR
VERSION:2.0
PRODID:-//ChamberMaster//Event Calendar 2.0//EN
METHOD:PUBLISH
X-PUBLISHED-TTL:P3D
REFRESH-INTERVAL:P3D
CALSCALE:GREGORIAN
BEGIN:VEVENT
DTSTART:20250529T200000Z
DTEND:20250529T210000Z
X-MICROSOFT-CDO-ALLDAYEVENT:FALSE
SUMMARY:Ribbon Cutting: Heritage Hall - Blacksburg
DESCRIPTION:Join us as we celebrate our member\, Heritage Hall\, with a ribbon cutting. This event will take place at their location\, 3610 South Main St\, Blacksburg\, VA\, on Thursday\, May 29th at 4pm.\n \n\nPlease arrive prior to 4 PM and the ribbon will be cut promptly at 4:10 PM. All members are encouraged to sign the ribbon as a keepsake for Heritage Hall - Blacksburg. A very special guest will also be in attendance\, legendary coach\, Frank Beamer will be joining the festivities.
X-ALT-DESC;FMTTYPE=text/html:<p dir="ltr" style="line-height:1.38\;margin-top:0pt\;margin-bottom:0pt\;"><span id="docs-internal-guid-b1e7623e-7fff-4ddb-963f-16b002afe9fc"><span style="font-size: 13.5pt\; font-family: Montserrat\, sans-serif\; color: rgb(0\, 0\, 0)\; background-color: transparent\; font-variant-numeric: normal\; font-variant-east-asian: normal\; font-variant-alternates: normal\; font-variant-position: normal\; vertical-align: baseline\; white-space-collapse: preserve\;">Join us as we celebrate our member\, Heritage Hall\, with a ribbon cutting. </span></span><span id="docs-internal-guid-b1e7623e-7fff-4ddb-963f-16b002afe9fc"><span style="font-size: 13.5pt\; font-family: Montserrat\, sans-serif\; color: rgb(0\, 0\, 0)\; background-color: transparent\; font-variant-numeric: normal\; font-variant-east-asian: normal\; font-variant-alternates: normal\; font-variant-position: normal\; vertical-align: baseline\; white-space-collapse: preserve\;">This event will take place at their location\, 3610 South Main St\, Blacksburg\, VA\, on Thursday\, May 29th at 4pm.</span></span></p>\n&nbsp\;\n\n<p dir="ltr" style="line-height:1.38\;margin-top:0pt\;margin-bottom:0pt\;"><span id="docs-internal-guid-b1e7623e-7fff-4ddb-963f-16b002afe9fc"><span style="font-size: 13.5pt\; font-family: Montserrat\, sans-serif\; color: rgb(0\, 0\, 0)\; background-color: transparent\; font-variant-numeric: normal\; font-variant-east-asian: normal\; font-variant-alternates: normal\; font-variant-position: normal\; vertical-align: baseline\; white-space-collapse: preserve\;">Please arrive prior to 4 PM and the ribbon will be cut promptly at 4:10 PM. All members are encouraged to sign the ribbon as a keepsake for Heritage Hall - Blacksburg. A very special guest will also be in attendance\, legendary coach\, Frank Beamer will be joining the festivities.</span></span></p>\n
LOCATION:3610 South Main St\, Blacksburg\, VA
UID:e.278.14865
SEQUENCE:3
DTSTAMP:20260426T035349Z
URL:https://business.montgomerycc.org/events/details/ribbon-cutting-heritage-hall-blacksburg-14865
END:VEVENT

END:VCALENDAR
