BEGIN:VCALENDAR
VERSION:2.0
PRODID:-//ChamberMaster//Event Calendar 2.0//EN
METHOD:PUBLISH
X-PUBLISHED-TTL:P3D
REFRESH-INTERVAL:P3D
CALSCALE:GREGORIAN
BEGIN:VEVENT
DTSTART:20250501T200000Z
DTEND:20250501T210000Z
X-MICROSOFT-CDO-ALLDAYEVENT:FALSE
SUMMARY:Ribbon Cutting: Apricot Lane Boutique
DESCRIPTION:Join us as we celebrate our new member\, Apricot Lane Boutique with a ribbon cutting at their location\, 876 Prices Fork Road on Thursday\, May 1st at 4 PM.\n \n\nPlease arrive prior to 4 PM. The ribbon will be cut promptly at 4:10 PM. All members are encouraged to sign the ribbon as a keepsake for Apricot Lane Boutique.
X-ALT-DESC;FMTTYPE=text/html:<p dir="ltr" style="line-height:1.38\;margin-top:0pt\;margin-bottom:0pt\;"><span id="docs-internal-guid-b1e7623e-7fff-4ddb-963f-16b002afe9fc"><span style="font-size: 13.5pt\; font-family: Montserrat\, sans-serif\; color: rgb(0\, 0\, 0)\; background-color: transparent\; font-variant-numeric: normal\; font-variant-east-asian: normal\; font-variant-alternates: normal\; font-variant-position: normal\; vertical-align: baseline\; white-space-collapse: preserve\;">Join us as we celebrate our new member\, Apricot Lane Boutique with a ribbon cutting at their location\, 876 Prices Fork Road </span></span><span id="docs-internal-guid-b1e7623e-7fff-4ddb-963f-16b002afe9fc"><span style="font-size: 13.5pt\; font-family: Montserrat\, sans-serif\; color: rgb(0\, 0\, 0)\; background-color: transparent\; font-variant-numeric: normal\; font-variant-east-asian: normal\; font-variant-alternates: normal\; font-variant-position: normal\; vertical-align: baseline\; white-space-collapse: preserve\;">on Thursday\, May 1st at 4 PM.</span></span></p>\n&nbsp\;\n\n<p dir="ltr" style="line-height:1.38\;margin-top:0pt\;margin-bottom:0pt\;"><span id="docs-internal-guid-b1e7623e-7fff-4ddb-963f-16b002afe9fc"><span style="font-size: 13.5pt\; font-family: Montserrat\, sans-serif\; color: rgb(0\, 0\, 0)\; background-color: transparent\; font-variant-numeric: normal\; font-variant-east-asian: normal\; font-variant-alternates: normal\; font-variant-position: normal\; vertical-align: baseline\; white-space-collapse: preserve\;">Please arrive prior to 4 PM. The ribbon will be cut promptly at 4:10 PM. All members are encouraged to sign the ribbon as a keepsake for Apricot Lane Boutique.</span></span></p>\n
LOCATION:876 Prices Fork Road Blacksburg\, VA
UID:e.278.14945
SEQUENCE:3
DTSTAMP:20260426T024300Z
URL:https://business.montgomerycc.org/events/details/ribbon-cutting-apricot-lane-boutique-14945
END:VEVENT

END:VCALENDAR
