BEGIN:VCALENDAR
VERSION:2.0
PRODID:-//ChamberMaster//Event Calendar 2.0//EN
METHOD:PUBLISH
X-PUBLISHED-TTL:P3D
REFRESH-INTERVAL:P3D
CALSCALE:GREGORIAN
BEGIN:VEVENT
DTSTART:20250515T220000Z
DTEND:20250516T000000Z
X-MICROSOFT-CDO-ALLDAYEVENT:FALSE
SUMMARY:RBTC’s AI Decoded
DESCRIPTION:Join us for RBTC's inaugural AI Decoded a deep dive into the world of artificial intelligence. Discover how to harness the full potential of AI and unlock powerful tools to elevate your work and ideas.\n\nGenerative AI is everywhere but what exactly is it? In this session\, we will hear from Senior Manager\, Developer Relations at Docker\, Michael Irwin. Michael will break down the fundamentals of GenAI in a clear\, approachable way. You'll learn what GenAI really means\, the key personas driving its development and use\, and get a high-level overview of the tech stack that powers it all. Whether you're just starting to explore AI or looking to fill in the gaps\, this session will help demystify the hype and give you a solid foundation to build on.
X-ALT-DESC;FMTTYPE=text/html:<p>Join us for&nbsp\;RBTC&rsquo\;s inaugural&nbsp\;<strong>AI Decoded</strong>&mdash\;a deep dive into the world of artificial intelligence. Discover how to harness the full potential of AI and unlock powerful tools to elevate your work and ideas.</p>\n\n<p>Generative AI is everywhere&mdash\;but what exactly is it? In this session\, we will hear from Senior Manager\, Developer Relations at Docker\, Michael Irwin. Michael will break down the fundamentals of&nbsp\;GenAI in a clear\, approachable way. You&rsquo\;ll learn what GenAI really means\, the key personas driving its development and use\, and get a high-level overview of the tech stack that powers it all. Whether you&rsquo\;re just starting to explore AI or looking to fill in the gaps\, this session will help demystify the hype and give you a solid foundation to build on.</p>\n
LOCATION:QCowork Coworking Space 105 Roanoke Street East Blacksburg\, Virginia 24060-3909 United States
UID:e.278.14953
SEQUENCE:3
DTSTAMP:20260426T023358Z
URL:https://business.montgomerycc.org/events/details/rbtc-s-ai-decoded-14953
END:VEVENT

END:VCALENDAR
