BEGIN:VCALENDAR
VERSION:2.0
PRODID:-//ChamberMaster//Event Calendar 2.0//EN
METHOD:PUBLISH
X-PUBLISHED-TTL:P3D
REFRESH-INTERVAL:P3D
CALSCALE:GREGORIAN
BEGIN:VEVENT
DTSTART:20231110T003000Z
DTEND:20231110T020000Z
X-MICROSOFT-CDO-ALLDAYEVENT:FALSE
SUMMARY:Performance : "MEDEA on Media" by the Seongbukdong Beedoolkee Theatre
DESCRIPTION:This Seoul\, Korea-based innovative contemporary theatre company delivers a completely original take on the enduring Greek tragedy of Medea\, recasting the ancient tale as a commentary on contemporary media and serving it to the audience in outrageous ways\, including talk shows\, action movies\, Disney cartoons\, and an Instagrammable yoga class. With plenty of physicality and a dash of silliness\, MEDEA on Media is also clever and profound. The work is performed in Korean with English supertitles.
X-ALT-DESC;FMTTYPE=text/html:This Seoul\, Korea-based innovative contemporary theatre company delivers a completely original take on the enduring Greek tragedy of Medea\, recasting the ancient tale as a commentary on contemporary media and serving it to the audience in outrageous ways\, including talk shows\, action movies\, Disney cartoons\, and an Instagrammable yoga class. With plenty of physicality and a dash of silliness\, MEDEA on Media is also clever and profound. The work is performed in Korean with English supertitles.
LOCATION:Moss Arts Center
UID:e.278.11353
SEQUENCE:3
DTSTAMP:20260424T181056Z
URL:https://business.montgomerycc.org/events/details/performance-medea-on-media-by-the-seongbukdong-beedoolkee-theatre-11-09-2023-11353
END:VEVENT

END:VCALENDAR
