BEGIN:VCALENDAR
VERSION:2.0
PRODID:-//ChamberMaster//Event Calendar 2.0//EN
METHOD:PUBLISH
X-PUBLISHED-TTL:P3D
REFRESH-INTERVAL:P3D
CALSCALE:GREGORIAN
BEGIN:VEVENT
DTSTART:20250510T233000Z
DTEND:20250511T010000Z
X-MICROSOFT-CDO-ALLDAYEVENT:FALSE
SUMMARY:Performance: Chucho Valdés and Irakere 50
DESCRIPTION:Grammy winner and world-famous pianist Chucho Vald s closes the season with a tribute to 50 years of Irakere\, featuring a new iteration of the band that revolutionized Afro-Latin jazz.
X-ALT-DESC;FMTTYPE=text/html:Grammy winner and world-famous pianist Chucho Vald&eacute\;s closes the season with a tribute to 50 years of Irakere\, featuring a new iteration of the band that revolutionized Afro-Latin jazz.
LOCATION:Moss Arts Center 190 Alumni Mall Blacksburg\, VA 24061
UID:e.278.14557
SEQUENCE:3
DTSTAMP:20260426T041154Z
URL:https://business.montgomerycc.org/events/details/performance-chucho-vald&#233;s-and-irakere-50-14557
END:VEVENT

END:VCALENDAR
