BEGIN:VCALENDAR
VERSION:2.0
PRODID:-//ChamberMaster//Event Calendar 2.0//EN
METHOD:PUBLISH
X-PUBLISHED-TTL:P3D
REFRESH-INTERVAL:P3D
CALSCALE:GREGORIAN
BEGIN:VEVENT
DTSTART:20250510T130000Z
DTEND:20250510T180000Z
X-MICROSOFT-CDO-ALLDAYEVENT:FALSE
SUMMARY:NRVMGA Spring Plant Sale & Plant Clinic
DESCRIPTION:Join us at the Montgomery County Government Center's Roundabout/Parking lot at Main Entrance and inside Government Center from 9am - 2pm for our annual plant sale.\n\nRAIN OR SHINE.
X-ALT-DESC;FMTTYPE=text/html:<div>Join us at the Montgomery County Government Center&#39\;s Roundabout/Parking lot at Main Entrance and inside Government Center from 9am - 2pm for our annual plant sale.</div>\n\n<div>RAIN OR SHINE.</div>\n
LOCATION:755 Roanoke St\, Christiansburg\, VA 24073-3168
UID:e.278.14951
SEQUENCE:3
DTSTAMP:20260426T041343Z
URL:https://business.montgomerycc.org/events/details/nrvmga-spring-plant-sale-plant-clinic-14951
END:VEVENT

END:VCALENDAR
