BEGIN:VCALENDAR
VERSION:2.0
PRODID:-//ChamberMaster//Event Calendar 2.0//EN
METHOD:PUBLISH
X-PUBLISHED-TTL:P3D
REFRESH-INTERVAL:P3D
CALSCALE:GREGORIAN
BEGIN:VEVENT
DTSTART:20250515T153000Z
DTEND:20250515T170000Z
X-MICROSOFT-CDO-ALLDAYEVENT:FALSE
SUMMARY:NRV SHRM Chapter Meeting - The Opposite of Burnout: 5 Essential Strategies
DESCRIPTION:Burnout has a way of sneaking up on people. Disguised in the noble cloaks of "hard work\," and "loyalty\," and "paying your dues\," burnout can steal your fire before you even realize what you've lost. When it's gone\, it's gone. As burnout scorches corporate landscapes at record levels\, it is especially important that leaders equip themselves with burnout prevention tools\, for themselves first\, and ultimately their organization.
X-ALT-DESC;FMTTYPE=text/html:<p>Burnout has a way of sneaking up on people. Disguised in the noble cloaks of &ldquo\;hard work\,&rdquo\; and &ldquo\;loyalty\,&rdquo\; and &ldquo\;paying your dues\,&rdquo\; burnout can steal your fire before you even realize what you&rsquo\;ve lost. When it&rsquo\;s gone\, it&rsquo\;s gone. As burnout scorches corporate landscapes at record levels\, it is especially important that leaders equip themselves with burnout prevention tools\, for themselves first\, and ultimately their organization.</p>\n\n<p>&nbsp\;</p>\n
LOCATION:Holiday Inn Christiansburg and Live Online Zoom
UID:e.278.14903
SEQUENCE:3
DTSTAMP:20260426T024438Z
URL:https://business.montgomerycc.org/events/details/nrv-shrm-chapter-meeting-the-opposite-of-burnout-5-essential-strategies-14903
END:VEVENT

END:VCALENDAR
