BEGIN:VCALENDAR
VERSION:2.0
PRODID:-//ChamberMaster//Event Calendar 2.0//EN
METHOD:PUBLISH
X-PUBLISHED-TTL:P3D
REFRESH-INTERVAL:P3D
CALSCALE:GREGORIAN
BEGIN:VEVENT
DTSTART:20250503T223000Z
DTEND:20250504T010000Z
X-MICROSOFT-CDO-ALLDAYEVENT:FALSE
SUMMARY:Murder Mystery: Girls Just Wanna Kill Ron
DESCRIPTION:The show is still the same zany show where the 1985 Prom Reunion Committee is reuniting for a night of nostalgia\; but things take a dark turn when Ron ends up dead. It's up to you to solve the mystery and figure out who dunnit before the night is over! Could it be Whitney\, Senior Class Vice-President who is tightly wound and angry a lot? Or Cyndi\, Party Girl from the 80's. Sure she met with good fortune and is level-headed\; but why is she so calm and collected? What does she know?
X-ALT-DESC;FMTTYPE=text/html:The show is still the same zany show where the 1985 Prom Reunion Committee is reuniting for a night of nostalgia\; but things take a dark turn when Ron ends up dead. It&#39\;s up to you to solve the mystery and figure out who dunnit before the night is over! Could it be Whitney\, Senior Class Vice-President who is tightly wound and angry a lot? Or Cyndi\, Party Girl from the 80&#39\;s. Sure she met with good fortune and is level-headed\; but why is she so calm and collected? What does she know?
LOCATION:At Warm Hearth there will be seating at the tables in Tall Oaks Hall. The price is $25 individual. Your ticket prices includes heavy hors d'oeuvres (meatballs\, veggie tray\, crostina with feta spread\, chicken tenders\, cookie/brownie tray. Warm Hearth will also offer beer and wine for $5\, and cocktails for $7. Sodas/water will also be available.
UID:e.278.14941
SEQUENCE:3
DTSTAMP:20260426T024505Z
URL:https://business.montgomerycc.org/events/details/murder-mystery-girls-just-wanna-kill-ron-05-03-2025-14941
END:VEVENT

END:VCALENDAR
