BEGIN:VCALENDAR
VERSION:2.0
PRODID:-//ChamberMaster//Event Calendar 2.0//EN
METHOD:PUBLISH
X-PUBLISHED-TTL:P3D
REFRESH-INTERVAL:P3D
CALSCALE:GREGORIAN
BEGIN:VEVENT
DTSTART:20260316T160000Z
DTEND:20260316T170000Z
X-MICROSOFT-CDO-ALLDAYEVENT:FALSE
SUMMARY:MC Webinar: Maximizing Your Online Visibility - March 2026
DESCRIPTION:Get found where it matters most: Industry experts from ITI Digital\, alongside Blacksburg - Christiansburg - Montgomery County Tourism and the Montgomery County Chamber\, are hosting this webinar to help your business improve visibility on Google and the Tourism website.\n\n\n\nWalk away with actionable tips to attract more customers\, increase online discoverability\, and make sure your business shows up when people are planning their visit.\n\n\n\nRegistrants will be included in future Blacksburg-Christiansburg-Montgomery County Tourism communications.
X-ALT-DESC;FMTTYPE=text/html:<span style="font-size:16px\;"><span style="font-family:arial\;"><span style="letter-spacing:.3pt\;"><span style="color:#232333\;">Get found where it matters most: Industry experts from ITI Digital\, alongside Blacksburg - Christiansburg - Montgomery County Tourism and the Montgomery County Chamber\, are hosting this webinar to help your business improve visibility on Google and the Tourism website.<br />\n<br />\nWalk away with actionable tips to attract more customers\, increase online discoverability\, and make sure your business shows up when people are planning their visit.<br />\n<br />\nRegistrants will be included in future Blacksburg-Christiansburg-Montgomery County Tourism communications.</span></span></span></span>
LOCATION:Online by Zoom
UID:e.278.15265
SEQUENCE:3
DTSTAMP:20260424T013206Z
URL:https://business.montgomerycc.org/events/details/mc-webinar-maximizing-your-online-visibility-march-2026-15265
END:VEVENT

END:VCALENDAR
