BEGIN:VCALENDAR
VERSION:2.0
PRODID:-//ChamberMaster//Event Calendar 2.0//EN
METHOD:PUBLISH
X-PUBLISHED-TTL:P3D
REFRESH-INTERVAL:P3D
CALSCALE:GREGORIAN
BEGIN:VEVENT
DTSTART:20260324T200000Z
DTEND:20260324T210000Z
X-MICROSOFT-CDO-ALLDAYEVENT:FALSE
SUMMARY:MC Ribbon Cutting: Twin Coves Media
DESCRIPTION:Join us as we celebrate a 10 Year Business Anniversary and Ribbon Cutting for Twin Coves Media.  We'll gather at 4 pm at the Chamber of Commerce office at 210 Laurel Street in Christiansburg\, VA.\n\n\n\nPlease arrive prior to 4 PM and the ribbon will be cut promptly at 4:05 PM. All members are encouraged to sign the ribbon as a keepsake for Twin Coves Media.
X-ALT-DESC;FMTTYPE=text/html:<span style="font-size:16px\;"><span style="font-family:arial\;">Join us as we celebrate a 10 Year Business Anniversary and Ribbon Cutting for Twin Coves Media.&nbsp\; We&#39\;ll gather at 4 pm at the Chamber of Commerce office at 210 Laurel Street in Christiansburg\, VA.<br />\n<br />\n<span style="white-space-collapse: preserve\; background-color: rgb(255\, 255\, 255)\;">Please arrive prior to 4 PM and the ribbon will be cut promptly at 4:05 PM. All members are encouraged to sign the ribbon as a keepsake for Twin Coves Media.</span></span></span>
LOCATION:210 Laurel St\, Christiansburg\, VA
UID:e.278.15262
SEQUENCE:3
DTSTAMP:20260424T031931Z
URL:https://business.montgomerycc.org/events/details/mc-ribbon-cutting-twin-coves-media-15262
END:VEVENT

END:VCALENDAR
