BEGIN:VCALENDAR
VERSION:2.0
PRODID:-//ChamberMaster//Event Calendar 2.0//EN
METHOD:PUBLISH
X-PUBLISHED-TTL:P3D
REFRESH-INTERVAL:P3D
CALSCALE:GREGORIAN
BEGIN:VEVENT
DTSTART:20260318T200000Z
DTEND:20260318T210000Z
X-MICROSOFT-CDO-ALLDAYEVENT:FALSE
SUMMARY:MC Ribbon Cutting: TRINITY Real Estate
DESCRIPTION:Join us as we celebrate our member\, TRINITY Real Estate\, with a ribbon cutting. This event will take place at their location at 202 South Main Street\, Ste 201\, Blacksburg\, VA\, on Wednesday\, March 18th at 4pm.\n\n\n\nPlease arrive prior to 4 PM and the ribbon will be cut promptly at 4:05 PM. All members are encouraged to sign the ribbon as a keepsake for TRINITY Real Estate.\n\n\n\nLearn more about TRINITY Real Estate by clicking here.
X-ALT-DESC;FMTTYPE=text/html:<span style="font-size:16px\;"><span style="font-family:arial\;"><span id="docs-internal-guid-b1e7623e-7fff-4ddb-963f-16b002afe9fc" style="color: rgb(51\, 51\, 51)\; background-color: rgb(255\, 255\, 255)\;"><span style="color: rgb(0\, 0\, 0)\; background-color: transparent\; font-variant-numeric: normal\; font-variant-east-asian: normal\; font-variant-alternates: normal\; font-variant-position: normal\; vertical-align: baseline\; white-space-collapse: preserve\;">Join us as we celebrate our member\, TRINITY Real Estate\, with a ribbon cutting. This event will take place at their location at 202 South Main Street\, Ste 201\, Blacksburg\, VA\, on Wednesday\, March 18th at 4pm.</span></span><br />\n<br />\n<span id="docs-internal-guid-b1e7623e-7fff-4ddb-963f-16b002afe9fc" style="box-sizing: border-box\; color: rgb(47\, 47\, 47)\;"><span style="box-sizing: border-box\; color: rgb(0\, 0\, 0)\; background-color: transparent\; font-variant-numeric: normal\; font-variant-east-asian: normal\; font-variant-alternates: normal\; font-variant-position: normal\; vertical-align: baseline\; white-space-collapse: preserve\;">Please arrive prior to 4 PM and the ribbon will be cut promptly at 4:05 PM. All members are encouraged to sign the ribbon as a keepsake for TRINITY Real Estate.</span></span><br style="box-sizing: border-box\; color: rgb(47\, 47\, 47)\; font-family: Montserrat\, sans-serif\; font-size: 18px\;" />\n<br style="box-sizing: border-box\; color: rgb(47\, 47\, 47)\; font-family: Montserrat\, sans-serif\; font-size: 18px\;" />\n<span style="color: rgb(47\, 47\, 47)\;">Learn more about TRINITY Real Estate by <a href="https://www.trinitynrv.com/?utm_source=ig&amp\;utm_medium=social&amp\;utm_content=link_in_bio&amp\;fbclid=PAZXh0bgNhZW0CMTEAc3J0YwZhcHBfaWQMMjU2MjgxMDQwNTU4AAGnUhQDRuxZ2r63IL93oT_yfzkQfIqAMepBVv1EMcvOiBpLPTojcY16kxnKOeY_aem_FReQPIUivP61Jm4sZ0lqNA">clicking here</a>.</span></span></span>
LOCATION:202 South Main Street\, Ste 201\, Blacksburg\, VA
UID:e.278.15266
SEQUENCE:3
DTSTAMP:20260424T052022Z
URL:https://business.montgomerycc.org/events/details/mc-ribbon-cutting-trinity-real-estate-15266
END:VEVENT

END:VCALENDAR
