BEGIN:VCALENDAR
VERSION:2.0
PRODID:-//ChamberMaster//Event Calendar 2.0//EN
METHOD:PUBLISH
X-PUBLISHED-TTL:P3D
REFRESH-INTERVAL:P3D
CALSCALE:GREGORIAN
BEGIN:VEVENT
DTSTART:20260310T160000Z
DTEND:20260310T170000Z
X-MICROSOFT-CDO-ALLDAYEVENT:FALSE
SUMMARY:MC Ribbon Cutting: Mountain Valor
DESCRIPTION:Join us as we celebrate our member\, Mountain Valor\, with a ribbon cutting. This event will take place at the Chamber Office\, on Tuesday\, March 10th at 12:00 PM.\n\n\n\nPlease arrive prior to 12:00 PM and the ribbon will be cut promptly at 12:05 PM. All members are encouraged to sign the ribbon as a keepsake for Mountain Valor\n\nLearn more about Mountain Valor by clicking here.
X-ALT-DESC;FMTTYPE=text/html:<span style="font-size:16px\;"><span style="font-family:arial\;"><span id="docs-internal-guid-b1e7623e-7fff-4ddb-963f-16b002afe9fc" style="color: rgb(51\, 51\, 51)\; background-color: rgb(255\, 255\, 255)\;"><span style="color: rgb(0\, 0\, 0)\; background-color: transparent\; font-variant-numeric: normal\; font-variant-east-asian: normal\; font-variant-alternates: normal\; font-variant-position: normal\; vertical-align: baseline\; white-space-collapse: preserve\;">Join us as we celebrate our member\, Mountain Valor\, with a ribbon cutting. This event will take place at the Chamber Office\, on Tuesday\, March 10th at 12:00 PM.</span></span><br />\n<br />\n<span id="docs-internal-guid-b1e7623e-7fff-4ddb-963f-16b002afe9fc" style="box-sizing: border-box\; color: rgb(47\, 47\, 47)\;"><span style="box-sizing: border-box\; color: rgb(0\, 0\, 0)\; background-color: transparent\; font-variant-numeric: normal\; font-variant-east-asian: normal\; font-variant-alternates: normal\; font-variant-position: normal\; vertical-align: baseline\; white-space-collapse: preserve\;">Please arrive prior to 12:00 PM and the ribbon will be cut promptly at 12:05 PM. All members are encouraged to sign the ribbon as a keepsake for Mountain Valor</span></span><br style="box-sizing: border-box\; color: rgb(47\, 47\, 47)\; font-family: Montserrat\, sans-serif\; font-size: 18px\;" />\n<span style="color: rgb(47\, 47\, 47)\;">Learn more about Mountain Valor by clicking <a href="https://mtnvalor.org/">here</a>.</span></span></span>
LOCATION:Chamber Office 210 Laurel St Christiansburg\, VA 24073
UID:e.278.15304
SEQUENCE:3
DTSTAMP:20260421T083914Z
URL:https://business.montgomerycc.org/events/details/mc-ribbon-cutting-mountain-valor-15304
END:VEVENT

END:VCALENDAR
