BEGIN:VCALENDAR
VERSION:2.0
PRODID:-//ChamberMaster//Event Calendar 2.0//EN
METHOD:PUBLISH
X-PUBLISHED-TTL:P3D
REFRESH-INTERVAL:P3D
CALSCALE:GREGORIAN
BEGIN:VEVENT
DTSTART:20260331T200000Z
DTEND:20260331T210000Z
X-MICROSOFT-CDO-ALLDAYEVENT:FALSE
SUMMARY:MC Ribbon Cutting: Greenseekers
DESCRIPTION:Join us as we celebrate our member\, Greenseekers\, with a ribbon cutting. This event will take place at 7474 Lee Hwy\, Fairlawn\, VA on Tuesday\, March 31st at 4pm.\n\n\n\nPlease arrive prior to 4pm and the ribbon will be cut promptly at 4:05. All members are encouraged to sign the ribbon as a keepsake for Greenseekers.\n\n\n\nLearn more about Greenseekers by clicking here.
X-ALT-DESC;FMTTYPE=text/html:<span style="font-size:16px\;"><span style="font-family:arial\;"><span id="docs-internal-guid-b1e7623e-7fff-4ddb-963f-16b002afe9fc" style="color: rgb(51\, 51\, 51)\; background-color: rgb(255\, 255\, 255)\;"><span style="color: rgb(0\, 0\, 0)\; background-color: transparent\; font-variant-numeric: normal\; font-variant-east-asian: normal\; font-variant-alternates: normal\; font-variant-position: normal\; vertical-align: baseline\; white-space-collapse: preserve\;">Join us as we celebrate our member\, Greenseekers\, with a ribbon cutting. This event will take place at 7474 Lee Hwy\, Fairlawn\, VA on Tuesday\, March 31st at 4pm.</span></span><br />\n<br />\n<span id="docs-internal-guid-b1e7623e-7fff-4ddb-963f-16b002afe9fc" style="box-sizing: border-box\; color: rgb(47\, 47\, 47)\;"><span style="box-sizing: border-box\; color: rgb(0\, 0\, 0)\; background-color: transparent\; font-variant-numeric: normal\; font-variant-east-asian: normal\; font-variant-alternates: normal\; font-variant-position: normal\; vertical-align: baseline\; white-space-collapse: preserve\;">Please arrive prior to 4pm and the ribbon will be cut promptly at 4:05. All members are encouraged to sign the ribbon as a keepsake for Greenseekers.</span></span><br style="box-sizing: border-box\; color: rgb(47\, 47\, 47)\; font-family: Montserrat\, sans-serif\; font-size: 18px\;" />\n<br style="box-sizing: border-box\; color: rgb(47\, 47\, 47)\; font-family: Montserrat\, sans-serif\; font-size: 18px\;" />\n<span style="color: rgb(47\, 47\, 47)\;"><a href="https://www.greenseekersgolfsim.com/">Learn more about Greenseekers by clicking here</a>.</span></span></span>
LOCATION:7474 Lee Hwy\, Fairlawn\, VA
UID:e.278.15313
SEQUENCE:3
DTSTAMP:20260422T084334Z
URL:https://business.montgomerycc.org/events/details/mc-ribbon-cutting-greenseekers-15313
END:VEVENT

END:VCALENDAR
