BEGIN:VCALENDAR
VERSION:2.0
PRODID:-//ChamberMaster//Event Calendar 2.0//EN
METHOD:PUBLISH
X-PUBLISHED-TTL:P3D
REFRESH-INTERVAL:P3D
CALSCALE:GREGORIAN
BEGIN:VEVENT
DTSTART:20260512T160000Z
DTEND:20260512T170000Z
X-MICROSOFT-CDO-ALLDAYEVENT:FALSE
SUMMARY:MC Membership 101 - May 2026
DESCRIPTION:Membership 101 is designed to help current and prospective members understand how to make the most of their Chamber membership. This free\, informational session is open to both members and future members and provides a clear overview of the tools\, programs\, and opportunities available through the Chamber.\n\n\n\nDuring the session\, attendees will learn how to:\n\n	Make the most of ribbon cuttings and networking opportunities\n	Get involved in CASE Groups and Chamber committees\n	Reach a wider audience through the Chamber website and online directory\n	Update and optimize their online member profile\n	Understand Invest for Success sponsorship opportunities\n	And explore additional resources available to support your business\n\nThis event also offers time to connect with other Chamber members and ask questions in a relaxed\, educational setting.\n\n\n\nA light lunch will be provided. Space is limited\, and advance registration is required.\n\n \n\nThank you to our sponsor\, TBD\, for making this event possible.
X-ALT-DESC;FMTTYPE=text/html:<span style="font-size:16px\;"><span style="font-family:arial\;">Membership 101&nbsp\;is designed to help current and prospective members understand how to make the most of their Chamber membership. This free\, informational session is open to both members and future members and provides a clear overview of the tools\, programs\, and opportunities available through the Chamber.<br />\n<br />\nDuring the session\, attendees will learn how to:</span></span>\n<ul>\n	<li><span style="font-size:16px\;"><span style="font-family:arial\;">Make the most of ribbon cuttings and networking opportunities</span></span></li>\n	<li><span style="font-size:16px\;"><span style="font-family:arial\;">Get involved in CASE Groups and Chamber committees</span></span></li>\n	<li><span style="font-size:16px\;"><span style="font-family:arial\;">Reach a wider audience through the Chamber website and online directory</span></span></li>\n	<li><span style="font-size:16px\;"><span style="font-family:arial\;">Update and optimize their online member profile</span></span></li>\n	<li><span style="font-size:16px\;"><span style="font-family:arial\;">Understand Invest for Success sponsorship opportunities</span></span></li>\n	<li><span style="font-size:16px\;"><span style="font-family:arial\;">And explore additional resources available to support your business</span></span></li>\n</ul>\n<span style="font-size:16px\;"><span style="font-family:arial\;">This event also offers time to connect with other Chamber members and ask questions in a relaxed\, educational setting.<br />\n<br />\nA light lunch will be provided. Space is limited\, and advance registration is required.<br />\n&#8203\;<br />\nThank you to our sponsor\, TBD\, for making this event possible.</span></span>
LOCATION:210 Laurel St NE\, Ste B\, Christiansburg\, VA
UID:e.278.15096
SEQUENCE:3
DTSTAMP:20260422T033739Z
URL:https://business.montgomerycc.org/events/details/mc-membership-101-may-2026-15096
END:VEVENT

END:VCALENDAR
