BEGIN:VCALENDAR
VERSION:2.0
PRODID:-//ChamberMaster//Event Calendar 2.0//EN
METHOD:PUBLISH
X-PUBLISHED-TTL:P3D
REFRESH-INTERVAL:P3D
CALSCALE:GREGORIAN
BEGIN:VEVENT
DTSTART:20260514T120000Z
DTEND:20260514T133000Z
X-MICROSOFT-CDO-ALLDAYEVENT:FALSE
SUMMARY:MC Eggs & Issues: Building Healthier Communities - May 2026
DESCRIPTION:* 8:00 a.m. Check-in and breakfast \n\n* 8:30 a.m. Program promptly begins\n\n* 9:30 a.m. Program ends \n \n\nStart your morning with a conversation that impacts every business\, employee\, and family across the New River Valley.\n\nJoin the Montgomery County Chamber of Commerce for our next Eggs & Issues as we take a closer look at what it really means to build a healthier community and why it matters to your workplace. From workforce wellness and mental health to education and community partnerships\, this discussion will connect the dots between health and long-term economic growth.\n\nLeading the conversation is Dr. Nolle Bissell\, MD\, Director of the New River Health District\, serving as moderator and guiding a dynamic panel of local leaders:\n\n\n	Kevin Bowen\, Owner of Blacksburg Boxing & Fitness\n	Dr. Kelly Guempel\, Superintendent of Montgomery County Public Schools\n	Carlan Myers\, SHRM\, Human Resources and workforce expert\n	Mental Health Representative\, offering insight on one of today's most critical challenges\n\n\nThis panel brings together perspectives from public health\, business\, education\, and human resources to explore practical ways organizations can support healthier employees and stronger communities. Expect real-world insights you can take back to your team no fluff\, just actionable ideas.\n\nWhy this matters:\n\nHealthy communities don't happen by accident. They're built through intentional partnerships\, smart policies\, and businesses that Invest in their people\, Connect with resources\, and Engage in solutions. The payoff? A workforce that's more productive\, resilient\, and ready to grow.\n\nEvent Details:\n\n\n	Breakfast & Networking: 8:00 a.m.\n	Program Begins: 8:30 a.m.\n	Program Concludes: 9:30 a.m.\n\n\nJoin us for a conversation that moves beyond awareness and into action.\n\nRegister today and be part of the solution.\nThank you to our event sponsor\, CMG Leasing\, and our presenting sponsor Carilion Clinic New River Valley Medical Center for investing in this program.\n\n\n\n\n\nRegister and pay online or contact m.smith@montgomerycc.org
X-ALT-DESC;FMTTYPE=text/html:<span style="font-size:20px\;"><span style="box-sizing: border-box\; outline: 0px\; color: rgb(47\, 47\, 47)\; letter-spacing: 0.5px\; font-weight: bolder\; font-family: arial\;">* 8:00 a.m. Check-in and breakfast&nbsp\;<br style="box-sizing: border-box\;" />\n* 8:30 a.m. Program promptly begins<br style="box-sizing: border-box\;" />\n* 9:30 a.m. Program ends&nbsp\;</span></span>\n<p data-end="356" data-start="48">&nbsp\;</p>\n\n<p data-end="182" data-start="65"><span style="font-size:20px\;">Start your morning with a conversation that impacts every business\, employee\, and family across the New River Valley.</span></p>\n\n<p data-end="542" data-start="184"><span style="font-size:20px\;">Join the Montgomery County Chamber of Commerce for our next Eggs &amp\; Issues as we take a closer look at what it really means to build a healthier community&mdash\;and why it matters to your workplace. From workforce wellness and mental health to education and community partnerships\, this discussion will connect the dots between health and long-term economic growth.</span></p>\n\n<p data-end="708" data-start="544"><span style="font-size:20px\;">Leading the conversation is <strong data-end="597" data-start="572">Dr. Nolle Bissell\, MD</strong>\, Director of the New River Health District\, serving as moderator and guiding a dynamic panel of local leaders:</span></p>\n\n<ul data-end="1008" data-start="710">\n	<li data-end="767" data-section-id="1xpdo7r" data-start="710"><span style="font-size:20px\;"><strong data-end="727" data-start="712">Kevin Bowen</strong>\, Owner of Blacksburg Boxing &amp\; Fitness</span></li>\n	<li data-end="845" data-section-id="s0klzg" data-start="768"><span style="font-size:20px\;"><strong data-end="791" data-start="770">Dr. Kelly Guempel</strong>\, Superintendent of Montgomery County Public Schools</span></li>\n	<li data-end="910" data-section-id="1nk3sk0" data-start="846"><span style="font-size:20px\;"><strong data-end="870" data-start="848">Carlan Myers\, SHRM</strong>\, Human Resources and workforce expert</span></li>\n	<li data-end="1008" data-section-id="s5ovf9" data-start="911"><span style="font-size:20px\;"><strong data-end="945" data-start="913">Mental Health Representative</strong>\, offering insight on one of today&rsquo\;s most critical challenges</span></li>\n</ul>\n\n<p data-end="1299" data-start="1010"><span style="font-size:20px\;">This panel brings together perspectives from public health\, business\, education\, and human resources to explore practical ways organizations can support healthier employees and stronger communities. Expect real-world insights you can take back to your team&mdash\;no fluff\, just actionable ideas.</span></p>\n\n<p data-end="1605" data-start="1301"><span style="font-size:20px\;"><strong data-end="1322" data-start="1301">Why this matters:</strong><br data-end="1325" data-start="1322" />\nHealthy communities don&rsquo\;t happen by accident. They&rsquo\;re built through intentional partnerships\, smart policies\, and businesses that Invest in their people\, Connect with resources\, and Engage in solutions. The payoff? A workforce that&rsquo\;s more productive\, resilient\, and ready to grow.</span></p>\n\n<p data-end="1627" data-start="1607"><span style="font-size:20px\;"><strong data-end="1625" data-start="1607">Event Details:</strong></span></p>\n\n<ul data-end="1728" data-start="1628">\n	<li data-end="1665" data-section-id="1lpgrh7" data-start="1628"><span style="font-size:20px\;">Breakfast &amp\; Networking: 8:00 a.m.</span></li>\n	<li data-end="1695" data-section-id="13q88v" data-start="1666"><span style="font-size:20px\;">Program Begins: 8:30 a.m.</span></li>\n	<li data-end="1728" data-section-id="ntv1y8" data-start="1696"><span style="font-size:20px\;">Program Concludes: 9:30 a.m.</span></li>\n</ul>\n\n<p data-end="1801" data-start="1730"><span style="font-size:20px\;">Join us for a conversation that moves beyond awareness and into action.</span></p>\n\n<p data-end="1850" data-start="1803"><span style="font-size:20px\;"><strong data-end="1850" data-start="1803">Register today and be part of the solution.</strong></span></p>\n<span style="font-size:20px\;">Thank you to our event sponsor\,&nbsp\;<b>CMG Leasing</b>\, and our presenting sponsor&nbsp\;<span style="font-family: arial\;"><strong>Carilion Clinic New River Valley Medical Center</strong>&nbsp\;for investing in this program.</span><br />\n<br style="box-sizing: border-box\; color: rgb(47\, 47\, 47)\; letter-spacing: 0.5px\; font-family: arial\; font-size: 14px\;" />\n<br style="box-sizing: border-box\;" />\n<span style="box-sizing: border-box\; color: rgb(47\, 47\, 47)\; letter-spacing: 0.5px\; font-family: arial\;">Register and pay online or contact m.smith@montgomerycc.org</span></span><br style="box-sizing: border-box\;" />\n&nbsp\;
LOCATION:Warm Hearth Village 2387 Warm Hearth Dr. Blacksburg\, VA 24060
UID:e.278.15097
SEQUENCE:3
DTSTAMP:20260424T144828Z
URL:https://business.montgomerycc.org/events/details/mc-eggs-issues-building-healthier-communities-may-2026-15097
END:VEVENT

END:VCALENDAR
