BEGIN:VCALENDAR
VERSION:2.0
PRODID:-//ChamberMaster//Event Calendar 2.0//EN
METHOD:PUBLISH
X-PUBLISHED-TTL:P3D
REFRESH-INTERVAL:P3D
CALSCALE:GREGORIAN
BEGIN:VEVENT
DTSTART:20260716T210000Z
DTEND:20260716T223000Z
X-MICROSOFT-CDO-ALLDAYEVENT:FALSE
SUMMARY:MC Business After Hours: The Adams at Peppers Ferry
DESCRIPTION:Business After Hours is the premier monthly networking program for our Chamber members. Every month one of our members hosts this event and between 75-150 of our members join in on the fun. Bring your business cards as there are often giveaways throughout the evening.\n\nBusiness After Hours begins at 5:00 PM and ends at 6:30 PM.\nThe sponsors of this month's Business After Hours is The Adams at Peppers Ferry\, and will take place at 375 Continental Cir\, Christiansburg\, VA.
X-ALT-DESC;FMTTYPE=text/html:<h1 style="box-sizing: border-box\; margin: 0px 0px 10px\; font-size: 36px\; font-family: Catamaran\, sans-serif\; line-height: 1.1\; letter-spacing: 0.5px\;"><span style="font-size:16px\;"><span style="font-family:arial\;"><span style="box-sizing: border-box\;">Business After Hours is the premier monthly&nbsp\;networking program for our Chamber members. Every month one of our members hosts this event and between 75-150 of our members join in on the fun. Bring your business cards as there are often giveaways throughout the evening.<br />\nBusiness After Hours begins at 5:00 PM and ends at&nbsp\;6:30 PM.</span></span></span></h1>\n<span style="font-size:16px\;"><span style="font-family:arial\;">The sponsors of this month&#39\;s Business After Hours is The Adams at Peppers Ferry\, and will take place at 375 Continental Cir\, Christiansburg\, VA.</span></span>
LOCATION:375 Continental Cir\, Christiansburg\, VA.
UID:e.278.15111
SEQUENCE:3
DTSTAMP:20260422T092929Z
URL:https://business.montgomerycc.org/events/details/mc-business-after-hours-the-adams-at-peppers-ferry-15111
END:VEVENT

END:VCALENDAR
