BEGIN:VCALENDAR
VERSION:2.0
PRODID:-//ChamberMaster//Event Calendar 2.0//EN
METHOD:PUBLISH
X-PUBLISHED-TTL:P3D
REFRESH-INTERVAL:P3D
CALSCALE:GREGORIAN
BEGIN:VEVENT
DTSTART:20260604T160000Z
DTEND:20260604T170000Z
X-MICROSOFT-CDO-ALLDAYEVENT:FALSE
SUMMARY:MC Business 101 Canva Series: Campaign Building & Intermediate Tools
DESCRIPTION:Session Topic: Campaign Building & Intermediate Tools\n\n\n\nThe Business 101 Series has evolved to meet the practical\, day-to-day needs of today's small businesses\, entrepreneurs\, and nonprofit organizations. This year's series will focus on hands-on skill development through a three-part workshop series centered on Canva\, a powerful and accessible design and marketing tool used by organizations of all sizes. Thank you to our sponsor\, Blouse House Creative\, for making this series possible.\n\n\n\nParticipants will move step-by-step from foundational knowledge to more advanced applications\, learning how to confidently use both the free and paid versions of Canva for in-house design and marketing needs. Topics will include basic design principles\, asset ownership and organization\, multi-design projects\, brand guide creation\, layout best practices\, and common design do's and don'ts for professional use.\n\n\n\nThis series is designed to be interactive and project-based\, allowing attendees to apply what they learn in real time. Those who attend all three sessions will earn a Certificate of Completion\, recognizing their commitment to skill development and their ability to apply these tools effectively within their organization.\n\n\n\nBusiness 101 is ideal for business owners\, solopreneurs\, marketing staff\, nonprofits\, and anyone looking to strengthen their visual communication while staying engaged with the Chamber community. Whether attending in person or virtually\, participants will leave with practical skills\, completed projects\, and increased confidence in managing their own marketing materials.
X-ALT-DESC;FMTTYPE=text/html:<span style="font-size:16px\;"><span style="font-family:arial\;">Session Topic: Campaign Building &amp\; Intermediate Tools<br />\n<br />\nThe&nbsp\;Business 101 Series&nbsp\;has evolved to meet the practical\, day-to-day needs of today&rsquo\;s small businesses\, entrepreneurs\, and nonprofit organizations. This year&rsquo\;s series will focus on hands-on skill development through a three-part workshop series centered on&nbsp\;Canva\, a powerful and accessible design and marketing tool used by organizations of all sizes. Thank you to our sponsor\, Blouse House Creative\, for making this series possible.<br />\n<br />\nParticipants will move step-by-step from foundational knowledge to more advanced applications\, learning how to confidently use both the free and paid versions of Canva for in-house design and marketing needs. Topics will include basic design principles\, asset ownership and organization\, multi-design projects\, brand guide creation\, layout best practices\, and common design do&rsquo\;s and don&rsquo\;ts for professional use.<br />\n<br />\nThis series is designed to be interactive and project-based\, allowing attendees to apply what they learn in real time. Those who attend all three sessions will earn a&nbsp\;Certificate of Completion\, recognizing their commitment to skill development and their ability to apply these tools effectively within their organization.<br />\n<br />\nBusiness 101 is ideal for business owners\, solopreneurs\, marketing staff\, nonprofits\, and anyone looking to strengthen their visual communication while staying engaged with the Chamber community. Whether attending in person or virtually\, participants will leave with practical skills\, completed projects\, and increased confidence in managing their own marketing materials.</span></span>
LOCATION:Chamber Office or by Zoom
UID:e.278.15246
SEQUENCE:3
DTSTAMP:20260424T181211Z
URL:https://business.montgomerycc.org/events/details/mc-business-101-canva-series-campaign-building-intermediate-tools-15246
END:VEVENT

END:VCALENDAR
