BEGIN:VCALENDAR
VERSION:2.0
PRODID:-//ChamberMaster//Event Calendar 2.0//EN
METHOD:PUBLISH
X-PUBLISHED-TTL:P3D
REFRESH-INTERVAL:P3D
CALSCALE:GREGORIAN
BEGIN:VEVENT
DTSTART:20250925T130000Z
DTEND:20250925T143000Z
X-MICROSOFT-CDO-ALLDAYEVENT:FALSE
SUMMARY:MC 2025 September Small Business Workshop: SWAM Certification
DESCRIPTION:Join us for a session of educational insight for small business owners. The topic for this workshop will be "SWAM Certification". This event is free to all chamber members\, and attendance is available in-person or via Zoom. Thank you to our sponsor Ink Works for making this event possible\n\n\n\nThis session will be presented by Terri Welch of Paint 'N Fun Ceramics\, who will show members the process of obtaining and maintaining SWAM Certification. Additionally this workshop will showcase the value of the different types of SWAM Certification\, and why it is a growth builder for your business.\n\n\n\nZoom Attendees will be able to join us starting at 9am.\n\nLink: https://us02web.zoom.us/j/86191575527\n\nMeeting ID: 861 9157 5527 \n\n\n\nThis series is designed for Chamber Members who want to learn about topics that directly impact their businesses. Our workshops cover essential subjects like marketing\, financial planning\, legal issues\, technology trends\, and other member-submitted topics\, and will feature experts who offer practical advice and strategies. Attendees will have the chance to network with fellow Chamber Members and professionals\, share experiences\, and build relationships that can lead to new opportunities.
X-ALT-DESC;FMTTYPE=text/html:<div style="background:white\;"><b style="color: rgb(38\, 38\, 38)\; font-family: arial\, sans-serif\; font-size: 18px\; letter-spacing: 0.533333px\;">Join us for a session of educational insight&nbsp\;for small business owners. The topic for this workshop will be &quot\;SWAM Certification&quot\;. This event is free to all chamber members\, and attendance is available in-person or via Zoom. Thank you to our sponsor Ink Works for making this event possible</b><br />\n<br />\n<span style="font-family: Montserrat\, sans-serif\; font-size: 16px\; caret-color: rgb(0\, 0\, 0)\; white-space-collapse: preserve\;">This session will be presented by Terri Welch of Paint &#39\;N Fun Ceramics\, who will show members the process of obtaining and maintaining SWAM Certification. Additionally this workshop will showcase the value of the different types of SWAM Certification\, and why it is a growth builder for your business.</span><br />\n<br />\n<span style="letter-spacing:.4pt\;"><span style="color:#262626\;"><span style="font-family:arial\,sans-serif\;"><span style="font-size:13.5pt\;">Zoom Attendees will be able to join us starting at 9am.</span></span></span></span><br />\n<span style="box-sizing: border-box\; color: rgb(47\, 47\, 47)\; font-family: Montserrat\, sans-serif\; font-size: 18px\; letter-spacing: 0.4pt\;"><span style="box-sizing: border-box\; color: rgb(38\, 38\, 38)\;"><span style="box-sizing: border-box\; font-family: arial\, sans-serif\;"><span style="box-sizing: border-box\; font-size: 13.5pt\;"><span style="box-sizing: border-box\; font-weight: bolder\;">Link:&nbsp\;</span></span></span></span></span><a href="https://us02web.zoom.us/j/86191575527" style="box-sizing: border-box\; color: rgb(0\, 105\, 145)\; text-decoration-line: none\; overflow-wrap: break-word\; font-family: Montserrat\, sans-serif\; font-size: 18px\;">https://us02web.zoom.us/j/86191575527</a><br style="box-sizing: border-box\; color: rgb(47\, 47\, 47)\; font-family: Montserrat\, sans-serif\; font-size: 18px\;" />\n<span style="box-sizing: border-box\; font-weight: bolder\; color: rgb(47\, 47\, 47)\; font-family: Montserrat\, sans-serif\; font-size: 18px\;"><span style="box-sizing: border-box\; font-size: 14pt\;">Meeting ID: 861 9157 5527</span></span><span style="box-sizing: border-box\; font-weight: bolder\; color: rgb(47\, 47\, 47)\; font-family: Montserrat\, sans-serif\; font-size: 18px\;"><span style="box-sizing: border-box\; font-size: 14pt\;">&nbsp\;</span></span><br />\n<br />\n<span style="font-family: Montserrat\, sans-serif\; font-size: 16px\; caret-color: rgb(0\, 0\, 0)\; white-space-collapse: preserve\;">This series is designed for Chamber Members who want to learn about topics that directly impact their businesses. Our workshops cover essential subjects like marketing\, financial planning\, legal issues\, technology trends\, and other member-submitted topics\, and will feature experts who offer practical advice and strategies. Attendees will have the chance to network with fellow Chamber Members and professionals\, share experiences\, and build relationships that can lead to new opportunities.</span></div>\n
LOCATION:Chamber Office\, 210 Laurel St\, Ste B\, Christiansburg\, VA For those attending by Zoom\, please see the link in the event description
UID:e.278.14198
SEQUENCE:3
DTSTAMP:20260425T230739Z
URL:https://business.montgomerycc.org/events/details/mc-2025-september-small-business-workshop-swam-certification-14198
END:VEVENT

END:VCALENDAR
