BEGIN:VCALENDAR
VERSION:2.0
PRODID:-//ChamberMaster//Event Calendar 2.0//EN
METHOD:PUBLISH
X-PUBLISHED-TTL:P3D
REFRESH-INTERVAL:P3D
CALSCALE:GREGORIAN
BEGIN:VEVENT
DTSTART:20250930T210000Z
DTEND:20250930T223000Z
X-MICROSOFT-CDO-ALLDAYEVENT:FALSE
SUMMARY:MC 2025 September Regional Business After Hours: Sinkland Farms
DESCRIPTION:Business After Hours is the premier monthly networking program for our Chamber members. Every month one of our members hosts this event and between 75-150 of our members join in on the fun. Bring your business cards as there are often giveaways throughout the evening.\n\nThe host this month is Sinkland Farms\, 3060 Riner Rd\, Christiansburg\, Va.\n\nBusiness After Hours begins at 5:00 PM and ends at 6:30 PM.
X-ALT-DESC;FMTTYPE=text/html:<h1 style="box-sizing: border-box\; margin: 0px 0px 10px\; font-size: 36px\; font-family: Catamaran\, sans-serif\; line-height: 1.1\; letter-spacing: 0.5px\;"><span style="box-sizing: border-box\; font-size: 18px\;">Business After Hours is the premier monthly&nbsp\;networking program for our Chamber members. Every month one of our members hosts this event and between 75-150 of our members join in on the fun. Bring your business cards as there are often giveaways throughout the evening.<br />\nThe host this month is Sinkland Farms\, 3060 Riner Rd\, Christiansburg\, Va.<br />\nBusiness After Hours begins at 5:00 PM and ends at&nbsp\;6:30 PM.</span></h1>\n
LOCATION:Sinkland Farms\, 3060 Riner Rd\, Christiansburg\, Va.
UID:e.278.14801
SEQUENCE:3
DTSTAMP:20260425T225857Z
URL:https://business.montgomerycc.org/events/details/mc-2025-september-regional-business-after-hours-sinkland-farms-14801
END:VEVENT

END:VCALENDAR
