BEGIN:VCALENDAR
VERSION:2.0
PRODID:-//ChamberMaster//Event Calendar 2.0//EN
METHOD:PUBLISH
X-PUBLISHED-TTL:P3D
REFRESH-INTERVAL:P3D
CALSCALE:GREGORIAN
BEGIN:VEVENT
DTSTART:20250918T120000Z
DTEND:20250918T133000Z
X-MICROSOFT-CDO-ALLDAYEVENT:FALSE
SUMMARY:MC 2025 September Eggs & Issues: Mental Health & Wellness
DESCRIPTION:Join your Chamber for a panel discussion! The topic of this month's Eggs & Issues will be "Mental Health & Wellness" sponsored by Ed & Ethel's Fine Jewelry.\n\n\n\nOur panel will be comprised of a group of specialized individuals that will speak about Mental Health & Wellness.\n\n\n\nThe moderator for this event will be Dr. Kate Steiner. Kate is a mental health counselor\, consultant\, speaker\, author\, and CEO of LIFT Wellness Consulting. She supports professionals in overcoming burnout through a proven reflection and developmental process. Holding A Master's of Counseling and a Ph.D. in Counselor Education and Supervision\, her practice is grounded in the research-based Steiner Self-Reflective Sustainability and Wellness (SSRSW) model\, published in the Journal of Sorority and Fraternity Life Research and Practice. As a lifetime researcher in wellness and burnout\, Dr. Steiner is the author of  "Feeling Crispy? A Guide to Burnout Recovery" and was the host of the Feeling Crispy? From Burnout to Recovery Podcast. Her mission is to end the burnout cycle for professionals so they are living happier\, healthier lives. \n\n\n\nThe panelist are as follows:\n\n\n\nNeely R. Conner- a consultant\, counselor\, coach\, and Director of Carilion Employee Assistance Program. A graduate of Virginia Commonwealth University\, she is a Licensed Clinical Social Worker\, Certified Employee Assistance Professional and Professional Certified Coach. Neely has been in the mental health field for 30 years and in Employee Assistance for 20 years\, working closely with leaders of business and industry to successfully manage the human aspect of the workplace.\n\n\n\nKatie Stafford is a board-certified nurse coach\, certified consulting hypnotist\, and HeartMath certified practitioner with over 15 years of experience as a registered nurse. She specializes in supporting individuals who are navigating life transitions\, stress\, burnout\, and the challenges of modern life. By blending evidence-based tools with holistic practices\, Katie helps her clients build emotional resilience\, regulate their nervous systems\, and reconnect with a deeper sense of peace and purpose. Known for her calm presence and integrative approach\, Katie works with clients both virtually and in person\, guiding them toward sustainable well-being and personal growth.\n\n\n\nDavid Andrews- Dave is the Associate Director of Employee Wellness\, a part of Hokie Wellness and Human Resources at Virginia Tech. He has experience working in community-based mental health\, on various public health initiatives\, and in wellness promotion on university campuses with students and employees. He received his Bachelor of Arts from Warren Wilson College in sociology and anthropology and a Master of Public Health with a concentration in health behavior and health education from the University of North Carolina at Chapel Hill. Dave is a Certified Health Education Specialist (CHES) and is working towards a certification as Corporate Wellness Specialist.  \n\n\n\n\n\nAdmission: $30 Chamber Members  $50 Non-Members \n\n\n\nSpace in limited and reservations are required by no later than Wednesday\, September 17th at noon. \n\n\n\nRegister and pay online or contact m.smith@montgomerycc.org\n\n \n\nThe sponsor of this Eggs & Issues is Ed & Ethel's Fine Jewelry.\n\n\n\nWarm Hearth Village\n\n2387 Warm Hearth Dr. Blacksburg\, VA 24060
X-ALT-DESC;FMTTYPE=text/html:<span style="font-size:16px\;"><span style="box-sizing: border-box\; color: rgb(47\, 47\, 47)\; letter-spacing: 0.5px\;">Join your Chamber for a panel discussion! </span><span style="color: rgb(47\, 47\, 47)\; letter-spacing: 0.5px\;">The topic of this month&#39\;s Eggs &amp\; Issues will be <strong>&quot\;Mental Health &amp\; Wellness&quot\;</strong> sponsored by&nbsp\;Ed &amp\; Ethel&#39\;s Fine Jewelry.</span></span><br />\n<br />\n<span style="font-size: 16px\; box-sizing: border-box\; color: rgb(47\, 47\, 47)\; letter-spacing: 0.5px\;">Our panel will be comprised of a group of specialized individuals that will speak about Mental Health &amp\; Wellness.</span><br style="font-size: 16px\;" />\n<br style="font-size: 16px\;" />\n<span style="font-size: 16px\; box-sizing: border-box\; color: rgb(47\, 47\, 47)\; letter-spacing: 0.5px\;">The moderator for this event will be Dr. Kate Steiner.</span><span style="color:black\;"><span style="font-family:arial\,sans-serif\;">&nbsp\;<span style="font-size:16px\;">Kate is a mental health counselor\, consultant\, speaker\, author\, and CEO of </span></span></span><span style="font-size:16px\;"><a href="https://liftwellnessconsulting.wordpress.com/" style="text-decoration-line:none\;"><span style="font-family:arial\,sans-serif\;">LIFT Wellness Consulting</span></a><span style="color:black\;"><span style="font-family:arial\,sans-serif\;">. She supports professionals in overcoming burnout through a proven reflection and developmental process. Holding A Master&rsquo\;s of Counseling and a Ph.D. in Counselor Education and Supervision\, her practice is grounded in the research-based Steiner Self-Reflective Sustainability and Wellness (SSRSW) model\, published in the Journal of Sorority and Fraternity Life Research and Practice. As a lifetime researcher in wellness and burnout\, Dr. Steiner is the author of&nbsp\; &quot\;Feeling Crispy? A Guide to Burnout Recovery&quot\; and was the host of the Feeling Crispy? From Burnout to Recovery Podcast. Her mission is to end the burnout cycle for professionals so they are living happier\, healthier lives. </span></span><br />\n<br style="font-size: 16px\;" />\nThe panelist are as follows:<br style="font-size: 16px\;" />\n<br style="font-size: 16px\;" />\n<span style="color:black\;"><strong>Neely R. Conner</strong>- a consultant\, counselor\, coach\, and Director of Carilion Employee Assistance Program. A graduate of Virginia Commonwealth University\, she is a Licensed Clinical Social Worker\, Certified Employee Assistance Professional and Professional Certified Coach. Neely has been in the mental health field for 30 years and in Employee Assistance for 20 years\, working closely with leaders of business and industry to successfully manage the human aspect of the workplace.</span><br />\n<br />\n<span style="color:black\;"><strong>Katie Stafford</strong> is a board-certified nurse coach\, certified consulting hypnotist\, and HeartMath certified practitioner with over 15 years of experience as a registered nurse. She specializes in supporting individuals who are navigating life transitions\, stress\, burnout\, and the challenges of modern life. By blending evidence-based tools with holistic practices\, Katie helps her clients build emotional resilience\, regulate their nervous systems\, and reconnect with a deeper sense of peace and purpose. Known for her calm presence and integrative approach\, Katie works with clients both virtually and in person\, guiding them toward sustainable well-being and personal growth.<br />\n<br />\n<strong>David Andrews-&nbsp\;</strong></span>Dave is the Associate Director of Employee Wellness\, a part of Hokie Wellness and Human Resources at Virginia Tech. He has experience working in community-based mental health\, on various public health initiatives\, and in wellness promotion on university campuses with students and employees. He received his Bachelor of Arts from Warren Wilson College in sociology and anthropology and a Master of Public Health with a concentration in health behavior and health education from the University of North Carolina at Chapel Hill. Dave is a Certified Health Education Specialist (CHES) and is working towards a certification as Corporate Wellness Specialist. &nbsp\;</span><br />\n<br />\n<br style="box-sizing: border-box\;" />\n<span style="box-sizing: border-box\; color: rgb(47\, 47\, 47)\; letter-spacing: 0.5px\; font-size: 14px\;"><span style="box-sizing: border-box\; font-weight: bolder\;">Admission:</span>&nbsp\;$30 Chamber Members&nbsp\; $50 Non-Members&nbsp\;<br style="box-sizing: border-box\;" />\n<br style="box-sizing: border-box\;" />\n<u style="box-sizing: border-box\;"><span style="box-sizing: border-box\; font-weight: bolder\;">Space in limited and reservations are required by no later than Wednesday\, September 17th at noon.&nbsp\;</span></u><br style="box-sizing: border-box\;" />\n<br style="box-sizing: border-box\;" />\nRegister and pay online or contact m.smith@montgomerycc.org<br style="box-sizing: border-box\;" />\n&nbsp\;</span><br />\n<span style="color: rgb(47\, 47\, 47)\; font-size: 14px\; letter-spacing: 0.5px\;">The sponsor of this Eggs &amp\; Issues is Ed &amp\; Ethel&#39\;s Fine Jewelry.</span><br />\n<br style="box-sizing: border-box\; color: rgb(47\, 47\, 47)\; letter-spacing: 0.5px\; font-family: arial\; font-size: 14px\;" />\n<span style="box-sizing: border-box\; color: rgb(47\, 47\, 47)\; letter-spacing: 0.5px\; font-size: 14px\; background-color: rgb(249\, 249\, 249)\;">Warm Hearth Village</span><br style="box-sizing: border-box\; color: rgb(47\, 47\, 47)\; font-family: Catamaran\, sans-serif\; font-size: 18px\; letter-spacing: 0.5px\; background-color: rgb(249\, 249\, 249)\;" />\n<span style="box-sizing: border-box\; color: rgb(47\, 47\, 47)\; letter-spacing: 0.5px\; font-size: 14px\; background-color: rgb(249\, 249\, 249)\;">2387 Warm Hearth Dr. Blacksburg\, VA 24060</span>
LOCATION:Warm Hearth Village 2387 Warm Hearth Dr. Blacksburg\, VA 24060
UID:e.278.14115
SEQUENCE:3
DTSTAMP:20260425T230855Z
URL:https://business.montgomerycc.org/events/details/mc-2025-september-eggs-issues-mental-health-wellness-14115
END:VEVENT

END:VCALENDAR
