BEGIN:VCALENDAR
VERSION:2.0
PRODID:-//ChamberMaster//Event Calendar 2.0//EN
METHOD:PUBLISH
X-PUBLISHED-TTL:P3D
REFRESH-INTERVAL:P3D
CALSCALE:GREGORIAN
BEGIN:VEVENT
DTSTART:20250514T130000Z
DTEND:20250514T143000Z
X-MICROSOFT-CDO-ALLDAYEVENT:FALSE
SUMMARY:MC 2025 May Small Business Workshop: AI Integration & Automation
DESCRIPTION:Join us for a session of educational insight for small business owners. The topic for this workshop will be Business AI Integration & Automation. This event is free to all chamber members\, and attendance is available in-person or via Zoom. Thank you to our sponsor\, Emerging Life Coaching\, for making this event possible.\n\n\n\nThis session will be presented by Mike Abbott. Mike is the founder of Cambrian\, helping businesses transform operations through intelligent automation. With over three decades as an innovation strategist and product development expert\, Mike has collaborated with 4\,500+ technology teams across industries. His engineering background includes BS/MS degrees in Mechanical Engineering from Virginia Tech\, PMP certification\, and Professional Engineer licensure in Virginia.\nMike's new focus on Business AI Automation helps companies identify high-ROI opportunities to streamline workflows\, enhance customer support\, and optimize data processing. His practical approach ensures measurable outcomes while navigating implementation challenges. Mike guides businesses through selecting the right processes\, prioritizing projects\, and implementing solutions aligned with strategic goals.\nAttendees are encouraged to submit questions at the time of registering\, to better tailor our presentation to those planning to be present.\n\n\n\nZoom Attendees will be able to join us starting at 9am.\n\nLink: https://us02web.zoom.us/j/86191575527\n\nMeeting ID: 861 9157 5527 \n\n\n\nThis series is designed for Chamber Members who want to learn about topics that directly impact their businesses. Our workshops cover essential subjects like marketing\, financial planning\, legal issues\, technology trends\, and other member-submitted topics\, and will be featuring experts who offer practical advice and strategies. Attendees will have the chance to network with fellow Chamber Members and professionals\, share experiences\, and build relationships that can lead to new opportunities.
X-ALT-DESC;FMTTYPE=text/html:<div style="background:white\;"><b style="color: rgb(38\, 38\, 38)\; font-family: arial\, sans-serif\; font-size: 18px\; letter-spacing: 0.533333px\;">Join us for a session of educational insight&nbsp\;for small business owners. The topic for this workshop will be Business AI Integration &amp\; Automation. This event is free to all chamber members\, and attendance is available in-person or via Zoom. Thank you to our sponsor\, Emerging Life Coaching\, for making this event possible.</b><br />\n<br />\nThis session will be presented by Mike Abbott. Mike is the founder of Cambrian\, helping businesses transform operations through intelligent automation. With over three decades as an innovation strategist and product development expert\, Mike has collaborated with 4\,500+ technology teams across industries. His engineering background includes BS/MS degrees in Mechanical Engineering from Virginia Tech\, PMP certification\, and Professional Engineer licensure in Virginia.\n<p>Mike&#39\;s new focus on Business AI Automation helps companies identify high-ROI opportunities to streamline workflows\, enhance customer support\, and optimize data processing. His practical approach ensures measurable outcomes while navigating implementation challenges. Mike guides businesses through selecting the right processes\, prioritizing projects\, and implementing solutions aligned with strategic goals.<o:p></o:p></p>\n<span style="font-family: Montserrat\, sans-serif\; font-size: 16px\;">Attendees are encouraged to submit questions at the time of registering\, to better tailor our presentation to those planning to be present.</span><br />\n<br />\n<span style="letter-spacing:.4pt\;"><span style="color:#262626\;"><span style="font-family:arial\,sans-serif\;"><span style="font-size:13.5pt\;">Zoom Attendees will be able to join us starting at 9am.</span></span></span></span><br />\n<span style="box-sizing: border-box\; color: rgb(47\, 47\, 47)\; font-family: Montserrat\, sans-serif\; font-size: 18px\; letter-spacing: 0.4pt\;"><span style="box-sizing: border-box\; color: rgb(38\, 38\, 38)\;"><span style="box-sizing: border-box\; font-family: arial\, sans-serif\;"><span style="box-sizing: border-box\; font-size: 13.5pt\;"><span style="box-sizing: border-box\; font-weight: bolder\;">Link:&nbsp\;</span></span></span></span></span><a href="https://us02web.zoom.us/j/86191575527" style="box-sizing: border-box\; color: rgb(0\, 105\, 145)\; text-decoration-line: none\; overflow-wrap: break-word\; font-family: Montserrat\, sans-serif\; font-size: 18px\;">https://us02web.zoom.us/j/86191575527</a><br style="box-sizing: border-box\; color: rgb(47\, 47\, 47)\; font-family: Montserrat\, sans-serif\; font-size: 18px\;" />\n<span style="box-sizing: border-box\; font-weight: bolder\; color: rgb(47\, 47\, 47)\; font-family: Montserrat\, sans-serif\; font-size: 18px\;"><span style="box-sizing: border-box\; font-size: 14pt\;">Meeting ID: 861 9157 5527</span></span><span style="box-sizing: border-box\; font-weight: bolder\; color: rgb(47\, 47\, 47)\; font-family: Montserrat\, sans-serif\; font-size: 18px\;"><span style="box-sizing: border-box\; font-size: 14pt\;">&nbsp\;</span></span><br />\n<br />\n<span style="font-family: Montserrat\, sans-serif\; font-size: 16px\;">This series is designed for Chamber Members who want to learn about topics that directly impact their businesses. Our workshops cover essential subjects like marketing\, financial planning\, legal issues\, technology trends\, and other member-submitted topics\, and will be featuring experts who offer practical advice and strategies. Attendees will have the chance to network with fellow Chamber Members and professionals\, share experiences\, and build relationships that can lead to new opportunities.</span></div>\n
LOCATION:Chamber Office\, 210 Laurel St\, Ste B\, Christiansburg\, VA For those attending by Zoom\, please see the link in the event description.
UID:e.278.14946
SEQUENCE:3
DTSTAMP:20260426T024020Z
URL:https://business.montgomerycc.org/events/details/mc-2025-may-small-business-workshop-ai-integration-automation-14946
END:VEVENT

END:VCALENDAR
