BEGIN:VCALENDAR
VERSION:2.0
PRODID:-//ChamberMaster//Event Calendar 2.0//EN
METHOD:PUBLISH
X-PUBLISHED-TTL:P3D
REFRESH-INTERVAL:P3D
CALSCALE:GREGORIAN
BEGIN:VEVENT
DTSTART:20250501T120000Z
DTEND:20250501T133000Z
X-MICROSOFT-CDO-ALLDAYEVENT:FALSE
SUMMARY:MC 2025 May Eggs & Issues: Healthcare & Emergency Services
DESCRIPTION:* 8:00 a.m. Check-in and breakfast \n\n* 8:30 a.m. Program promptly begins\n\n* 9:30 a.m. Program ends \n\n\n\nJoin your Chamber for a panel discussion on Healthcare and Emergency Services for Montgomery County.\n\nA special thank you to our sponsor\, Lewis Gale Hospital-Montgomery for investing in this program. \n\nBeverly Hill\, the New River Health District Emergency Coordinator\, will serve as the moderator for this event.  Our panel will be comprised of a group of specialized individuals that will speak about the Emergency Services and Healthcare within Montgomery County.  This panel currently includes:\n\n	Robert Heins (LewisGale Montgomery Emergency Coordinator) \n	Michael Geary (Montgomery County Emergency Management)\n	Rodney Fultz (Senior Director\, Quality and Operations\, Carilion New River Medical Center)\n	Mary Kathryn Alley (Regional Healthcare Coordinator\, Southwest Virginia Healthcare Coalition)\n\n\n\n\n\nAdmission: $30 Chamber Members  $50 Non-Members \n\n\n\nSpace in limited and reservations are required by no later than Wednesday\, April 30th at noon. \n\n\n\nRegister and pay online or contact m.smith@montgomerycc.org\n\n \n\n\n\n\n\nWarm Hearth Village\n\n2387 Warm Hearth Dr. Blacksburg\, VA 24060
X-ALT-DESC;FMTTYPE=text/html:<span style="box-sizing: border-box\; outline: 0px\; color: rgb(47\, 47\, 47)\; letter-spacing: 0.5px\; font-weight: bolder\; font-family: arial\; font-size: 14px\;">* 8:00 a.m. Check-in and breakfast&nbsp\;<br style="box-sizing: border-box\;" />\n* 8:30 a.m. Program promptly begins<br style="box-sizing: border-box\;" />\n* 9:30 a.m. Program ends&nbsp\;</span><br style="box-sizing: border-box\; color: rgb(47\, 47\, 47)\; letter-spacing: 0.5px\; font-family: arial\; font-size: 14px\;" />\n<br style="box-sizing: border-box\; color: rgb(47\, 47\, 47)\; letter-spacing: 0.5px\; font-family: arial\; font-size: 14px\;" />\n<span style="box-sizing: border-box\; color: rgb(47\, 47\, 47)\; letter-spacing: 0.5px\; font-family: arial\; font-size: 14px\;">Join your Chamber for a panel discussion on Healthcare and Emergency Services for Montgomery County.</span><br style="box-sizing: border-box\; color: rgb(47\, 47\, 47)\; font-family: Catamaran\, sans-serif\; font-size: 18px\; letter-spacing: 0.5px\;" />\n<span style="box-sizing: border-box\; color: rgb(47\, 47\, 47)\; letter-spacing: 0.5px\; font-family: arial\; font-size: 14px\;">A special thank you to our sponsor\, <b><u>Lewis Gale Hospital-Montgomery</u></b>&nbsp\;for investing in this program.&nbsp\;<br />\nBeverly Hill\, the New River Health District Emergency Coordinator\, will serve as the moderator for this event.&nbsp\; Our panel will be comprised of a group of specialized individuals that will speak about the Emergency Services and Healthcare within Montgomery County.&nbsp\; This panel currently includes:</span>\n<ul>\n	<li style="color:black\;"><strong><span style="color:black\;"><span style="font-family:calibri\,sans-serif\;">Robert Heins</span></span></strong><span style="color:black\;"><span style="font-family:calibri\,sans-serif\;">&nbsp\;(LewisGale Montgomery Emergency Coordinator)&nbsp\;</span></span></li>\n	<li><strong><span style="color:black\;"><span style="font-family:calibri\,sans-serif\;">Michael Geary</span></span></strong><span style="color:black\;"><span style="font-family:calibri\,sans-serif\;">&nbsp\;(Montgomery County Emergency Management)</span></span></li>\n	<li><strong><span style="color:black\;"><span style="font-family:calibri\,sans-serif\;">Rodney Fultz </span></span></strong><span style="color:black\;"><span style="font-family:calibri\,sans-serif\;">(Senior Director\, Quality and Operations\, Carilion New River Medical Center)</span></span></li>\n	<li><strong><span style="color: black\;"><span style="font-family: calibri\, sans-serif\;">Mary Kathryn&nbsp\;Alley</span></span></strong><span style="color: black\;"><span style="font-family: calibri\, sans-serif\;">&nbsp\;(Regional Healthcare Coordinator\, Southwest Virginia Healthcare Coalition)</span></span></li>\n</ul>\n<br />\n<br style="box-sizing: border-box\;" />\n<span style="box-sizing: border-box\; color: rgb(47\, 47\, 47)\; letter-spacing: 0.5px\; font-family: arial\; font-size: 14px\;"><span style="box-sizing: border-box\; font-weight: bolder\;">Admission:</span>&nbsp\;$30 Chamber Members&nbsp\; $50 Non-Members&nbsp\;<br style="box-sizing: border-box\;" />\n<br style="box-sizing: border-box\;" />\n<u style="box-sizing: border-box\;"><span style="box-sizing: border-box\; font-weight: bolder\;">Space in limited and reservations are required by no later than Wednesday\, April 30th at noon.&nbsp\;</span></u><br style="box-sizing: border-box\;" />\n<br style="box-sizing: border-box\;" />\nRegister and pay online or contact m.smith@montgomerycc.org<br style="box-sizing: border-box\;" />\n&nbsp\;</span><br />\n<br />\n<br style="box-sizing: border-box\; color: rgb(47\, 47\, 47)\; letter-spacing: 0.5px\; font-family: arial\; font-size: 14px\;" />\n<span style="box-sizing: border-box\; color: rgb(47\, 47\, 47)\; letter-spacing: 0.5px\; font-family: arial\; font-size: 14px\; background-color: rgb(249\, 249\, 249)\;">Warm Hearth Village</span><br style="box-sizing: border-box\; color: rgb(47\, 47\, 47)\; font-family: Catamaran\, sans-serif\; font-size: 18px\; letter-spacing: 0.5px\; background-color: rgb(249\, 249\, 249)\;" />\n<span style="box-sizing: border-box\; color: rgb(47\, 47\, 47)\; letter-spacing: 0.5px\; font-family: arial\; font-size: 14px\; background-color: rgb(249\, 249\, 249)\;">2387 Warm Hearth Dr. Blacksburg\, VA 24060</span>
LOCATION:Warm Hearth Village 2387 Warm Hearth Dr. Blacksburg\, VA 24060
UID:e.278.14112
SEQUENCE:3
DTSTAMP:20260426T035236Z
URL:https://business.montgomerycc.org/events/details/mc-2025-may-eggs-issues-healthcare-emergency-services-14112
END:VEVENT

END:VCALENDAR
