BEGIN:VCALENDAR
VERSION:2.0
PRODID:-//ChamberMaster//Event Calendar 2.0//EN
METHOD:PUBLISH
X-PUBLISHED-TTL:P3D
REFRESH-INTERVAL:P3D
CALSCALE:GREGORIAN
BEGIN:VEVENT
DTSTART:20250508T160000Z
DTEND:20250508T210000Z
X-MICROSOFT-CDO-ALLDAYEVENT:FALSE
SUMMARY:MC 2025 Bocce Ball Tournament
DESCRIPTION:Join your Montgomery County Chamber of Commerce at the annual MCCC Foundation Bocce Ball Tournament on May 8\, 2025!\n\n \n\nCome out and enjoy a fun day of networking\, music\, food\, drinks\, and to see who will become our 2025 Bocce Ball Champion!\n\n \n\nTeams are LIMITED so be sure to purchase them before we sell out! Each team has two members that will play in the tournament. \n\n \n\n\n	The cost for each team is $175\n	The cost for a court sponsor is $135 \n	The court & team bundle is $275\n\n\nSponsorships are available for purchase during registration. The Diamond & Business After Hours sponsors include TWO Bocce Teams & a court sponsorship. If you are unable to play in the tournament this year\, please consider sponsoring a court.\n\n\n\nIf you would like to learn more about becoming a sponsor\, please reach out directly to Marissa Smith\, m.smith@montgomerycc.org
X-ALT-DESC;FMTTYPE=text/html:<div style="color: rgb(29\, 33\, 41)\; font-family: arial\; font-size: 14px\; white-space: pre-wrap\;"><span style="font-size:20px\;"><strong>Join your Montgomery County Chamber of Commerce at the annual MCCC Foundation Bocce Ball Tournament on May 8\, 2025!</strong></span><br />\n&nbsp\;</div>\n\n<div style="color: rgb(29\, 33\, 41)\; font-family: arial\; font-size: 14px\; white-space: pre-wrap\;"><span style="font-size:18px\;"><em>Come out and enjoy a fun day of networking\, music\, food\, drinks\, and to see who will become our 2025 Bocce Ball Champion!</em></span><br />\n&nbsp\;</div>\n\n<div style="color: rgb(29\, 33\, 41)\; font-family: arial\; font-size: 14px\; white-space: pre-wrap\;"><span style="font-family:times new roman\;"><span style="font-size:14px\;"><span style="font-size:16px\;"><span style="font-family:arial\;"><u><strong>Teams are LIMITED so be sure to purchase them before we sell out! Each team has two members that will play in the tournament. </strong></u></span></span></span></span><br />\n&nbsp\;</div>\n\n<ul>\n	<li style="color: rgb(29\, 33\, 41)\; font-family: arial\; font-size: 14px\; white-space: pre-wrap\;"><span style="font-size:18px\;">The cost for each team is $175</span></li>\n	<li style="color: rgb(29\, 33\, 41)\; font-family: arial\; font-size: 14px\; white-space: pre-wrap\;"><span style="font-size:18px\;">The cost for a court sponsor is $135 </span></li>\n	<li style="color: rgb(29\, 33\, 41)\; font-family: arial\; font-size: 14px\; white-space: pre-wrap\;"><span style="font-size:18px\;">The court &amp\; team bundle is $275</span></li>\n</ul>\n\n<div style="color: rgb(29\, 33\, 41)\; font-family: arial\; font-size: 14px\; white-space: pre-wrap\;"><span style="font-size:18px\;"><span style="font-size:18px\;"><span style="font-size:18px\;"><span style="color: rgb(29\, 33\, 41)\; white-space: pre-wrap\;"><strong>Sponsorships are available for purchase during registration. The Diamond &amp\; Business After Hours sponsors include TWO Bocce Teams &amp\; a court sponsorship. If you are unable to play in the tournament this year\, please consider sponsoring a court.</strong><br />\n<br />\nIf you would like to learn more about becoming a sponsor\, please reach out directly to Marissa Smith\, m.smith@montgomerycc.org</span></span></span></span></div>\n
LOCATION:300 Huckleberry Park Dr\, NW\, Christiansburg\, VA
UID:e.278.14135
SEQUENCE:3
DTSTAMP:20260426T024135Z
URL:https://business.montgomerycc.org/events/details/mc-2025-bocce-ball-tournament-14135
END:VEVENT

END:VCALENDAR
