BEGIN:VCALENDAR
VERSION:2.0
PRODID:-//ChamberMaster//Event Calendar 2.0//EN
METHOD:PUBLISH
X-PUBLISHED-TTL:P3D
REFRESH-INTERVAL:P3D
CALSCALE:GREGORIAN
BEGIN:VEVENT
DTSTART:20250521T200000Z
DTEND:20250521T220000Z
X-MICROSOFT-CDO-ALLDAYEVENT:FALSE
SUMMARY:MC 2025: 40 under 40 Awards Reception
DESCRIPTION:Join us for an evening filled with light refreshments and celebration for our 2025 40 under 40 recipients! We are excited to honor the incredible achievements of these talented individuals. Tickets will cost $40\, and Award Recipients are able to attend at no cost.
X-ALT-DESC;FMTTYPE=text/html:Join us for an evening filled with light refreshments and celebration for our 2025 40 under 40 recipients! We are excited to honor the incredible achievements of these talented individuals. Tickets will cost $40\, and Award Recipients are able to attend at no cost.
LOCATION:The Inn at Virginia Tech\, 901 Prices Fork Rd\, Blacksburg\, VA
UID:e.278.14182
SEQUENCE:3
DTSTAMP:20260426T041024Z
URL:https://business.montgomerycc.org/events/details/mc-2025-40-under-40-awards-reception-14182
END:VEVENT

END:VCALENDAR
