BEGIN:VCALENDAR
VERSION:2.0
PRODID:-//ChamberMaster//Event Calendar 2.0//EN
METHOD:PUBLISH
X-PUBLISHED-TTL:P3D
REFRESH-INTERVAL:P3D
CALSCALE:GREGORIAN
BEGIN:VEVENT
DTSTART:20260317T233000Z
DTEND:20260318T010000Z
X-MICROSOFT-CDO-ALLDAYEVENT:FALSE
SUMMARY:Irish Baroque Orchestra
DESCRIPTION:Experience something different this St. Patrick?s Day with music from flagship period instrument ensemble Irish Baroque Orchestra.
X-ALT-DESC;FMTTYPE=text/html:Experience something different this St. Patrick?s Day with music from flagship period instrument ensemble Irish Baroque Orchestra.
LOCATION:Center for the Arts 190 Alumni Mall\, Blacksburg\, VA
UID:e.278.15144
SEQUENCE:3
DTSTAMP:20260422T084232Z
URL:https://business.montgomerycc.org/events/details/irish-baroque-orchestra-15144
END:VEVENT

END:VCALENDAR
