BEGIN:VCALENDAR
VERSION:2.0
PRODID:-//ChamberMaster//Event Calendar 2.0//EN
METHOD:PUBLISH
X-PUBLISHED-TTL:P3D
REFRESH-INTERVAL:P3D
CALSCALE:GREGORIAN
BEGIN:VEVENT
DTSTART:20250926T123000Z
DTEND:20250926T133000Z
X-MICROSOFT-CDO-ALLDAYEVENT:FALSE
SUMMARY:Infrastructure Committee Meeting
DESCRIPTION:Montgomery County Chamber of Commerce Board Room or Zoom
X-ALT-DESC;FMTTYPE=text/html:Montgomery County Chamber of Commerce Board Room or Zoom
LOCATION:
UID:e.278.14819
SEQUENCE:3
DTSTAMP:20260425T230932Z
URL:https://business.montgomerycc.org/events/details/infrastructure-committee-meeting-09-26-2025-14819
END:VEVENT

END:VCALENDAR
