BEGIN:VCALENDAR
VERSION:2.0
PRODID:-//ChamberMaster//Event Calendar 2.0//EN
METHOD:PUBLISH
X-PUBLISHED-TTL:P3D
REFRESH-INTERVAL:P3D
CALSCALE:GREGORIAN
BEGIN:VEVENT
DTSTART:20260313T223000Z
DTEND:20260314T003000Z
X-MICROSOFT-CDO-ALLDAYEVENT:FALSE
SUMMARY:Friday Night Live Music - Dean Trimble
DESCRIPTION:Friday evenings at the vineyard just hit different. ???? As the sun settles behind the Blue Ridge\, Dean Trimble brings easy acoustic tunes to Beliveau Farm Winery. Grab a glass\, settle in\, and let the music carry you into the weekend. ?? Beliveau Farm Winery ?? Friday\, March 13 ? 6:30 8:30 PM
X-ALT-DESC;FMTTYPE=text/html:Friday evenings at the vineyard just hit different. ???? As the sun settles behind the Blue Ridge\, Dean Trimble brings easy acoustic tunes to Beliveau Farm Winery. Grab a glass\, settle in\, and let the music carry you into the weekend. ?? Beliveau Farm Winery ?? Friday\, March 13 ? 6:30&ndash\;8:30 PM
LOCATION:Beliveau Farm Winery
UID:e.278.15323
SEQUENCE:3
DTSTAMP:20260424T031631Z
URL:https://business.montgomerycc.org/events/details/friday-night-live-music-dean-trimble-15323
END:VEVENT

END:VCALENDAR
