BEGIN:VCALENDAR
VERSION:2.0
PRODID:-//ChamberMaster//Event Calendar 2.0//EN
METHOD:PUBLISH
X-PUBLISHED-TTL:P3D
REFRESH-INTERVAL:P3D
CALSCALE:GREGORIAN
BEGIN:VEVENT
DTSTART:20260221T003000Z
DTEND:20260221T020000Z
X-MICROSOFT-CDO-ALLDAYEVENT:FALSE
SUMMARY:Danish Radio Big Band
DESCRIPTION:Danish Radio Big Band brings powerhouse sound alongside three-time Grammy-winning jazz vocalist Cécile McLorin Salvant.
X-ALT-DESC;FMTTYPE=text/html:Danish Radio Big Band brings powerhouse sound alongside three-time Grammy-winning jazz vocalist Cécile McLorin Salvant.
LOCATION:Center for the Arts 190 Alumni Mall\, Blacksburg\, VA
UID:e.278.15143
SEQUENCE:3
DTSTAMP:20260419T133431Z
URL:https://business.montgomerycc.org/events/details/danish-radio-big-band-15143
END:VEVENT

END:VCALENDAR
