BEGIN:VCALENDAR
VERSION:2.0
PRODID:-//ChamberMaster//Event Calendar 2.0//EN
METHOD:PUBLISH
X-PUBLISHED-TTL:P3D
REFRESH-INTERVAL:P3D
CALSCALE:GREGORIAN
BEGIN:VEVENT
DTSTART:20260310T143000Z
DTEND:20260310T153000Z
X-MICROSOFT-CDO-ALLDAYEVENT:FALSE
SUMMARY:Connection Series: Planning with a Purpose: Smart Ways to Support What Matters Most
DESCRIPTION:Planning for the future doesn't have to be overwhelming. Join us for an educational session focused on basic financial and estate planning tools that ensure your wishes are honored and provide peace of mind for your loved ones - while supporting causes close to your heart. This interactive session is designed to inform\, empower\, and help you make meaningful steps toward creating a plan that secures your future. Questions are welcome and refreshments will be provided. Speakers: Trevor Gray\, Partner and Financial Advisor with Kingsview Partners Ray Judici\, VP in Trust and Wealth management with National Bank RSVP to Dominique at 540-443-3406
X-ALT-DESC;FMTTYPE=text/html:Planning for the future doesn&#39\;t have to be overwhelming. Join us for an educational session focused on basic financial and estate planning tools that ensure your wishes are honored and provide peace of mind for your loved ones - while supporting causes close to your heart. This interactive session is designed to inform\, empower\, and help you make meaningful steps toward creating a plan that secures your future. Questions are welcome and refreshments will be provided. Speakers: Trevor Gray\, Partner and Financial Advisor with Kingsview Partners Ray Judici\, VP in Trust and Wealth management with National Bank RSVP to Dominique at 540-443-3406
LOCATION:Warm Hearth Village Center 2387 Warm Hearth Drive Blacksburg\, VA 24060
UID:e.278.15316
SEQUENCE:3
DTSTAMP:20260421T082701Z
URL:https://business.montgomerycc.org/events/details/connection-series-planning-with-a-purpose-smart-ways-to-support-what-matters-most-15316
END:VEVENT

END:VCALENDAR
