BEGIN:VCALENDAR
VERSION:2.0
PRODID:-//ChamberMaster//Event Calendar 2.0//EN
METHOD:PUBLISH
X-PUBLISHED-TTL:P3D
REFRESH-INTERVAL:P3D
CALSCALE:GREGORIAN
BEGIN:VEVENT
DTSTART:20250522T130000Z
DTEND:20250522T160000Z
X-MICROSOFT-CDO-ALLDAYEVENT:FALSE
SUMMARY:Career and Resource Fair
DESCRIPTION:Career and Resource Fair hosted by Montgomery County Department of Social Services
X-ALT-DESC;FMTTYPE=text/html:Career and Resource Fair hosted by Montgomery County Department of Social Services
LOCATION:210 S. Pepper Street Christiansburg\, VA 24073
UID:e.278.14916
SEQUENCE:3
DTSTAMP:20260426T023912Z
URL:https://business.montgomerycc.org/events/details/career-and-resource-fair-14916
END:VEVENT

END:VCALENDAR
