BEGIN:VCALENDAR
VERSION:2.0
PRODID:-//ChamberMaster//Event Calendar 2.0//EN
METHOD:PUBLISH
X-PUBLISHED-TTL:P3D
REFRESH-INTERVAL:P3D
CALSCALE:GREGORIAN
BEGIN:VEVENT
DTSTART:20250520T123000Z
DTEND:20250520T133000Z
X-MICROSOFT-CDO-ALLDAYEVENT:FALSE
SUMMARY:Business Resource Committee
DESCRIPTION:2020 Kraft Drive\, New River Valley Conference Room\n\nor Zoom
X-ALT-DESC;FMTTYPE=text/html:2020 Kraft Drive\, New River Valley Conference Room<br />\nor Zoom
LOCATION:
UID:e.278.14806
SEQUENCE:3
DTSTAMP:20260426T024233Z
URL:https://business.montgomerycc.org/events/details/business-resource-committee-05-20-2025-14806
END:VEVENT

END:VCALENDAR
