BEGIN:VCALENDAR
VERSION:2.0
PRODID:-//ChamberMaster//Event Calendar 2.0//EN
METHOD:PUBLISH
X-PUBLISHED-TTL:P3D
REFRESH-INTERVAL:P3D
CALSCALE:GREGORIAN
BEGIN:VEVENT
DTSTART:20260502T213000Z
DTEND:20260503T003000Z
X-MICROSOFT-CDO-ALLDAYEVENT:FALSE
SUMMARY:2026 Kentucky Derby Fundraiser - Talk Derby to Me!!!
DESCRIPTION:Get ready for mint juleps and big hats and the most exciting 2 minutes in sports!!\n\nJoin us for our fourth annual Kentucky Derby Fundraiser. Heavy hors d'oeuvres provided. Bartender and drink specials available. All proceeds benefit this year's Memorial Fund honoree.\n\nDerby attire recommended.
X-ALT-DESC;FMTTYPE=text/html:<h1><strong>Get ready for mint juleps and big hats and the most exciting 2 minutes in sports!!</strong></h1>\n\n<h2>Join us for our fourth annual Kentucky Derby Fundraiser. Heavy hors d&#39\;oeuvres provided. Bartender and drink specials available. All proceeds benefit this year&#39\;s Memorial Fund honoree.</h2>\n\n<h2>Derby attire recommended.&nbsp\;&nbsp\;</h2>\n
LOCATION:Stadium Room McClains at First and Main 1614 S Main St\, Blacksburg\, VA 24060
UID:e.278.15353
SEQUENCE:3
DTSTAMP:20260421T084420Z
URL:https://business.montgomerycc.org/events/details/2026-kentucky-derby-fundraiser-talk-derby-to-me-15353
END:VEVENT

END:VCALENDAR
